BEGIN:VCALENDAR
VERSION:2.0
PRODID:-//PFKC - ECPv6.15.20//NONSGML v1.0//EN
CALSCALE:GREGORIAN
METHOD:PUBLISH
X-WR-CALNAME:PFKC
X-ORIGINAL-URL:https://pfkc.pl
X-WR-CALDESC:Wydarzenia dla PFKC
REFRESH-INTERVAL;VALUE=DURATION:PT1H
X-Robots-Tag:noindex
X-PUBLISHED-TTL:PT1H
BEGIN:VTIMEZONE
TZID:Europe/Warsaw
BEGIN:DAYLIGHT
TZOFFSETFROM:+0100
TZOFFSETTO:+0200
TZNAME:CEST
DTSTART:20230326T010000
END:DAYLIGHT
BEGIN:STANDARD
TZOFFSETFROM:+0200
TZOFFSETTO:+0100
TZNAME:CET
DTSTART:20231029T010000
END:STANDARD
BEGIN:DAYLIGHT
TZOFFSETFROM:+0100
TZOFFSETTO:+0200
TZNAME:CEST
DTSTART:20240331T010000
END:DAYLIGHT
BEGIN:STANDARD
TZOFFSETFROM:+0200
TZOFFSETTO:+0100
TZNAME:CET
DTSTART:20241027T010000
END:STANDARD
BEGIN:DAYLIGHT
TZOFFSETFROM:+0100
TZOFFSETTO:+0200
TZNAME:CEST
DTSTART:20250330T010000
END:DAYLIGHT
BEGIN:STANDARD
TZOFFSETFROM:+0200
TZOFFSETTO:+0100
TZNAME:CET
DTSTART:20251026T010000
END:STANDARD
END:VTIMEZONE
BEGIN:VEVENT
DTSTART;VALUE=DATE:20241129
DTEND;VALUE=DATE:20241202
DTSTAMP:20260421T170420
CREATED:20240607T144034Z
LAST-MODIFIED:20240607T144034Z
UID:3719-1732838400-1733097599@pfkc.pl
SUMMARY:Mistrzostwa Polski w Curlingu na Wózkach Par Mieszanych
DESCRIPTION:
URL:https://pfkc.pl/turnieje/mistrzostwa-polski-w-curlingu-na-wozkach-par-mieszanych-2/
LOCATION:Curling Łódź\, Śnieżna 10\, Łódź\, 92-103\, Poland
CATEGORIES:Mistrzostwa Polski
ATTACH;FMTTYPE=image/jpeg:https://pfkc.pl/wp-content/uploads/2023/03/pfkc_logo_solo.jpg
END:VEVENT
BEGIN:VEVENT
DTSTART;VALUE=DATE:20241206
DTEND;VALUE=DATE:20241209
DTSTAMP:20260421T170420
CREATED:20240607T144151Z
LAST-MODIFIED:20240607T144151Z
UID:3721-1733443200-1733702399@pfkc.pl
SUMMARY:Mistrzostwa Polski Seniorów
DESCRIPTION:
URL:https://pfkc.pl/turnieje/mistrzostwa-polski-seniorow-2024/
LOCATION:Curling Łódź\, Śnieżna 10\, Łódź\, 92-103\, Poland
CATEGORIES:Mistrzostwa Polski
ATTACH;FMTTYPE=image/jpeg:https://pfkc.pl/wp-content/uploads/2023/03/pfkc_logo_solo.jpg
END:VEVENT
BEGIN:VEVENT
DTSTART;VALUE=DATE:20241213
DTEND;VALUE=DATE:20241216
DTSTAMP:20260421T170420
CREATED:20240607T204411Z
LAST-MODIFIED:20240607T204411Z
UID:3775-1734048000-1734307199@pfkc.pl
SUMMARY:WCT Łódź Men's International 2024
DESCRIPTION:
URL:https://pfkc.pl/turnieje/wct-lodz-mens-international-2024/
LOCATION:Curling Łódź\, Śnieżna 10\, Łódź\, 92-103\, Poland
CATEGORIES:World Curling Tour
ATTACH;FMTTYPE=image/png:https://pfkc.pl/wp-content/uploads/2024/06/mens2024.png
ORGANIZER;CN="Curling %C5%81%C3%B3d%C5%BA":MAILTO:kontakt@curlinglodz.pl
END:VEVENT
BEGIN:VEVENT
DTSTART;VALUE=DATE:20241220
DTEND;VALUE=DATE:20241223
DTSTAMP:20260421T170420
CREATED:20240607T145441Z
LAST-MODIFIED:20240607T145441Z
UID:3738-1734652800-1734911999@pfkc.pl
SUMMARY:Ekstraliga Mężczyzn
DESCRIPTION:
URL:https://pfkc.pl/turnieje/ekstraliga-mezczyzn-2025-1/
LOCATION:Curling Łódź\, Śnieżna 10\, Łódź\, 92-103\, Poland
CATEGORIES:liga
ATTACH;FMTTYPE=image/jpeg:https://pfkc.pl/wp-content/uploads/2023/03/plc_logo.jpg
END:VEVENT
BEGIN:VEVENT
DTSTART;VALUE=DATE:20241220
DTEND;VALUE=DATE:20241223
DTSTAMP:20260421T170420
CREATED:20240607T145539Z
LAST-MODIFIED:20240607T145539Z
UID:3740-1734652800-1734911999@pfkc.pl
SUMMARY:Ekstraliga Kobiet
DESCRIPTION:
URL:https://pfkc.pl/turnieje/ekstraliga-kobiet-2025-1/
LOCATION:Curling Łódź\, Śnieżna 10\, Łódź\, 92-103\, Poland
CATEGORIES:liga
ATTACH;FMTTYPE=image/jpeg:https://pfkc.pl/wp-content/uploads/2023/03/plc_logo.jpg
END:VEVENT
BEGIN:VEVENT
DTSTART;VALUE=DATE:20241227
DTEND;VALUE=DATE:20241230
DTSTAMP:20260421T170420
CREATED:20241031T075625Z
LAST-MODIFIED:20241031T075625Z
UID:4075-1735257600-1735516799@pfkc.pl
SUMMARY:Mistrzostwa Polski Juniorów Par Mieszanych
DESCRIPTION:
URL:https://pfkc.pl/turnieje/mistrzostwa-polski-juniorow-par-mieszanych/
LOCATION:Curling Łódź\, Śnieżna 10\, Łódź\, 92-103\, Poland
CATEGORIES:Mistrzostwa Polski
ATTACH;FMTTYPE=image/jpeg:https://pfkc.pl/wp-content/uploads/2023/03/pfkc_logo_solo.jpg
END:VEVENT
END:VCALENDAR