BEGIN:VCALENDAR
VERSION:2.0
PRODID:-//PFKC - ECPv6.15.20//NONSGML v1.0//EN
CALSCALE:GREGORIAN
METHOD:PUBLISH
X-WR-CALNAME:PFKC
X-ORIGINAL-URL:https://pfkc.pl
X-WR-CALDESC:Wydarzenia dla PFKC
REFRESH-INTERVAL;VALUE=DURATION:PT1H
X-Robots-Tag:noindex
X-PUBLISHED-TTL:PT1H
BEGIN:VTIMEZONE
TZID:Europe/Warsaw
BEGIN:DAYLIGHT
TZOFFSETFROM:+0100
TZOFFSETTO:+0200
TZNAME:CEST
DTSTART:20230326T010000
END:DAYLIGHT
BEGIN:STANDARD
TZOFFSETFROM:+0200
TZOFFSETTO:+0100
TZNAME:CET
DTSTART:20231029T010000
END:STANDARD
BEGIN:DAYLIGHT
TZOFFSETFROM:+0100
TZOFFSETTO:+0200
TZNAME:CEST
DTSTART:20240331T010000
END:DAYLIGHT
BEGIN:STANDARD
TZOFFSETFROM:+0200
TZOFFSETTO:+0100
TZNAME:CET
DTSTART:20241027T010000
END:STANDARD
BEGIN:DAYLIGHT
TZOFFSETFROM:+0100
TZOFFSETTO:+0200
TZNAME:CEST
DTSTART:20250330T010000
END:DAYLIGHT
BEGIN:STANDARD
TZOFFSETFROM:+0200
TZOFFSETTO:+0100
TZNAME:CET
DTSTART:20251026T010000
END:STANDARD
END:VTIMEZONE
BEGIN:VEVENT
DTSTART;VALUE=DATE:20240405
DTEND;VALUE=DATE:20240407
DTSTAMP:20260422T020235
CREATED:20230615T210249Z
LAST-MODIFIED:20240106T063949Z
UID:2776-1712275200-1712447999@pfkc.pl
SUMMARY:Baraże PLC
DESCRIPTION:
URL:https://pfkc.pl/turnieje/baraze/
LOCATION:Curling Łódź\, Śnieżna 10\, Łódź\, 92-103\, Poland
CATEGORIES:liga
ATTACH;FMTTYPE=image/jpeg:https://pfkc.pl/wp-content/uploads/2023/03/plc_logo.jpg
END:VEVENT
BEGIN:VEVENT
DTSTART;VALUE=DATE:20240407
DTEND;VALUE=DATE:20240408
DTSTAMP:20260422T020235
CREATED:20230615T211953Z
LAST-MODIFIED:20230615T211953Z
UID:2798-1712448000-1712534399@pfkc.pl
SUMMARY:Dwójkowa Sparingniedziela
DESCRIPTION:
URL:https://pfkc.pl/turnieje/dwojkowa-sparingniedziela/
LOCATION:Curling Łódź\, Śnieżna 10\, Łódź\, 92-103\, Poland
ORGANIZER;CN="Curling %C5%81%C3%B3d%C5%BA":MAILTO:kontakt@curlinglodz.pl
END:VEVENT
BEGIN:VEVENT
DTSTART;VALUE=DATE:20240411
DTEND;VALUE=DATE:20240415
DTSTAMP:20260422T020235
CREATED:20230615T210130Z
LAST-MODIFIED:20230615T215620Z
UID:2774-1712793600-1713139199@pfkc.pl
SUMMARY:1. i 2. PLC Par Mieszanych
DESCRIPTION:
URL:https://pfkc.pl/turnieje/plc-par-mieszanych-2/
LOCATION:Curling Łódź\, Śnieżna 10\, Łódź\, 92-103\, Poland
CATEGORIES:liga
ATTACH;FMTTYPE=image/jpeg:https://pfkc.pl/wp-content/uploads/2023/03/plc_logo.jpg
END:VEVENT
BEGIN:VEVENT
DTSTART;VALUE=DATE:20240419
DTEND;VALUE=DATE:20240422
DTSTAMP:20260422T020235
CREATED:20230615T204746Z
LAST-MODIFIED:20240106T063927Z
UID:2742-1713484800-1713743999@pfkc.pl
SUMMARY:Mistrzostwa Polski Mikstów
DESCRIPTION:
URL:https://pfkc.pl/turnieje/mistrzostwa-polski-mikstow-2/
LOCATION:Curling Łódź\, Śnieżna 10\, Łódź\, 92-103\, Poland
CATEGORIES:Mistrzostwa Polski
ATTACH;FMTTYPE=image/jpeg:https://pfkc.pl/wp-content/uploads/2023/03/pfkc_logo_solo.jpg
END:VEVENT
BEGIN:VEVENT
DTSTART;VALUE=DATE:20240419
DTEND;VALUE=DATE:20240422
DTSTAMP:20260422T020235
CREATED:20230615T204854Z
LAST-MODIFIED:20240106T064001Z
UID:2746-1713484800-1713743999@pfkc.pl
SUMMARY:Mistrzostwa Polski w Curlingu na Wózkach
DESCRIPTION:
URL:https://pfkc.pl/turnieje/mistrzostwa-polski-w-curlingu-na-wozkach-druzyny-2/
LOCATION:Curling Łódź\, Śnieżna 10\, Łódź\, 92-103\, Poland
CATEGORIES:Mistrzostwa Polski
ATTACH;FMTTYPE=image/jpeg:https://pfkc.pl/wp-content/uploads/2023/03/pfkc_logo_solo.jpg
END:VEVENT
END:VCALENDAR