BEGIN:VCALENDAR
VERSION:2.0
PRODID:-//PFKC - ECPv6.15.20//NONSGML v1.0//EN
CALSCALE:GREGORIAN
METHOD:PUBLISH
X-WR-CALNAME:PFKC
X-ORIGINAL-URL:https://pfkc.pl
X-WR-CALDESC:Wydarzenia dla PFKC
REFRESH-INTERVAL;VALUE=DURATION:PT1H
X-Robots-Tag:noindex
X-PUBLISHED-TTL:PT1H
BEGIN:VTIMEZONE
TZID:Europe/Warsaw
BEGIN:DAYLIGHT
TZOFFSETFROM:+0100
TZOFFSETTO:+0200
TZNAME:CEST
DTSTART:20230326T010000
END:DAYLIGHT
BEGIN:STANDARD
TZOFFSETFROM:+0200
TZOFFSETTO:+0100
TZNAME:CET
DTSTART:20231029T010000
END:STANDARD
BEGIN:DAYLIGHT
TZOFFSETFROM:+0100
TZOFFSETTO:+0200
TZNAME:CEST
DTSTART:20240331T010000
END:DAYLIGHT
BEGIN:STANDARD
TZOFFSETFROM:+0200
TZOFFSETTO:+0100
TZNAME:CET
DTSTART:20241027T010000
END:STANDARD
BEGIN:DAYLIGHT
TZOFFSETFROM:+0100
TZOFFSETTO:+0200
TZNAME:CEST
DTSTART:20250330T010000
END:DAYLIGHT
BEGIN:STANDARD
TZOFFSETFROM:+0200
TZOFFSETTO:+0100
TZNAME:CET
DTSTART:20251026T010000
END:STANDARD
END:VTIMEZONE
BEGIN:VEVENT
DTSTART;VALUE=DATE:20240301
DTEND;VALUE=DATE:20240304
DTSTAMP:20260422T031906
CREATED:20240119T164636Z
LAST-MODIFIED:20240119T164636Z
UID:3408-1709251200-1709510399@pfkc.pl
SUMMARY:XIV Turniej Pawłowic w Curlingu
DESCRIPTION:
URL:https://pfkc.pl/turnieje/xiv-turniej-pawlowic-w-curlingu/
LOCATION:Lodowisko GOS Pawłowice\, ul. Pukowca 7\, Pawłowice\, śląskie\, 43-251\, Poland
CATEGORIES:turniej towarzyski
ORGANIZER;CN="KS Warszowice":MAILTO:d.herman@awf.katowice.pl
END:VEVENT
BEGIN:VEVENT
DTSTART;VALUE=DATE:20240309
DTEND;VALUE=DATE:20240311
DTSTAMP:20260422T031906
CREATED:20230615T205910Z
LAST-MODIFIED:20231126T141322Z
UID:2768-1709942400-1710115199@pfkc.pl
SUMMARY:2. PLC Mężczyzn
DESCRIPTION:
URL:https://pfkc.pl/turnieje/plc-mezczyzn-4/
LOCATION:Curling Łódź\, Śnieżna 10\, Łódź\, 92-103\, Poland
CATEGORIES:liga
ATTACH;FMTTYPE=image/jpeg:https://pfkc.pl/wp-content/uploads/2023/03/plc_logo.jpg
ORGANIZER;CN="Curling %C5%81%C3%B3d%C5%BA":MAILTO:kontakt@curlinglodz.pl
END:VEVENT
BEGIN:VEVENT
DTSTART;VALUE=DATE:20240309
DTEND;VALUE=DATE:20240311
DTSTAMP:20260422T031906
CREATED:20230615T205944Z
LAST-MODIFIED:20231126T141435Z
UID:2770-1709942400-1710115199@pfkc.pl
SUMMARY:3. PLC Mężczyzn
DESCRIPTION:
URL:https://pfkc.pl/turnieje/3-plc-mezczyzn-2/
LOCATION:Curling Łódź\, Śnieżna 10\, Łódź\, 92-103\, Poland
CATEGORIES:liga
ATTACH;FMTTYPE=image/jpeg:https://pfkc.pl/wp-content/uploads/2023/03/plc_logo.jpg
END:VEVENT
BEGIN:VEVENT
DTSTART;VALUE=DATE:20240313
DTEND;VALUE=DATE:20240318
DTSTAMP:20260422T031906
CREATED:20230615T204509Z
LAST-MODIFIED:20240106T064026Z
UID:2737-1710288000-1710719999@pfkc.pl
SUMMARY:Mistrzostwa Polski Mężczyzn i Kobiet (finały)
DESCRIPTION:
URL:https://pfkc.pl/turnieje/mistrzostwa-polski-mezczyzn-i-kobiet-finaly/
LOCATION:Curling Łódź\, Śnieżna 10\, Łódź\, 92-103\, Poland
CATEGORIES:Mistrzostwa Polski
ATTACH;FMTTYPE=image/jpeg:https://pfkc.pl/wp-content/uploads/2023/03/pfkc_logo_solo.jpg
END:VEVENT
BEGIN:VEVENT
DTSTART;VALUE=DATE:20240322
DTEND;VALUE=DATE:20240325
DTSTAMP:20260422T031906
CREATED:20240119T164314Z
LAST-MODIFIED:20240119T164314Z
UID:3405-1711065600-1711324799@pfkc.pl
SUMMARY:3. Świdnicki Turniej Curlingowy
DESCRIPTION:Mamy przymność zaprosić Was na  Świdnicki Turniej Curlingowy \,który odbędzie się 22-24 marca 2024 w urokliwej Świdnicy! \n Start w piątek 22.03.2024 ok godz. 8:00 / Start on Friday\, March 22\, 2024 at approximately 8:00 (każda drużyna rozegra 1 mecz pomiędzy 8:00-15:00 / every team will play 1 game between 8:00-15:00)\n TERMIN / DATE: 22-24.03.2024\, start 8:00\nMIEJSCE / PLACE: Świdnica\, Lodowisko OSIR – ul. Śląska 35B\n ILOŚĆ DRUŻYN / TEAMS: max. 30\n WPISOWE / ENTRY FEE: 1100 PLN (w tym wejście na bankiet dla 4 osób\, dodatkowa osoba na bankiecie 130 zł) / 260 EUR (including entry to the banquet for 4 people\, an additional person at the banquet 30 EUR)\n ZGŁOSZENIA / APPLICATIONS: mailowo do 11.02.2024 / by e-mail till 11.02.2024\n TERMINARZ / SCHEDULE: ogłoszone do 03.03.2024 / announced till 03.03.2024\n E-MAIL: curling.swidnica@gmail.com\n− 5 meczy gwarantowane / 5 games guaranteed\n− system szwajcarski / schenkel\n− nagrody rzeczowe / prizes\n BANKIET / PARTY: piątek wieczór / Friday evening\n ICE MASTER: Michał Zakrzewski\nOrganizator zastrzega sobie prawo odwołania/zmian w turnieju.\nThe organizer reserves the right to cancel/changes in the tournament
URL:https://pfkc.pl/turnieje/3-swidnicki-turniej-curlingowy/
LOCATION:Lodowisko OSiR Świdnica\, ul. Śląska 35b\, Świdnica\, 58-100\, Poland
CATEGORIES:turniej towarzyski
END:VEVENT
END:VCALENDAR