BEGIN:VCALENDAR
VERSION:2.0
PRODID:-//PFKC - ECPv6.15.20//NONSGML v1.0//EN
CALSCALE:GREGORIAN
METHOD:PUBLISH
X-ORIGINAL-URL:https://pfkc.pl
X-WR-CALDESC:Wydarzenia dla PFKC
REFRESH-INTERVAL;VALUE=DURATION:PT1H
X-Robots-Tag:noindex
X-PUBLISHED-TTL:PT1H
BEGIN:VTIMEZONE
TZID:Europe/Warsaw
BEGIN:DAYLIGHT
TZOFFSETFROM:+0100
TZOFFSETTO:+0200
TZNAME:CEST
DTSTART:20230326T010000
END:DAYLIGHT
BEGIN:STANDARD
TZOFFSETFROM:+0200
TZOFFSETTO:+0100
TZNAME:CET
DTSTART:20231029T010000
END:STANDARD
BEGIN:DAYLIGHT
TZOFFSETFROM:+0100
TZOFFSETTO:+0200
TZNAME:CEST
DTSTART:20240331T010000
END:DAYLIGHT
BEGIN:STANDARD
TZOFFSETFROM:+0200
TZOFFSETTO:+0100
TZNAME:CET
DTSTART:20241027T010000
END:STANDARD
BEGIN:DAYLIGHT
TZOFFSETFROM:+0100
TZOFFSETTO:+0200
TZNAME:CEST
DTSTART:20250330T010000
END:DAYLIGHT
BEGIN:STANDARD
TZOFFSETFROM:+0200
TZOFFSETTO:+0100
TZNAME:CET
DTSTART:20251026T010000
END:STANDARD
END:VTIMEZONE
BEGIN:VEVENT
DTSTART;VALUE=DATE:20240202
DTEND;VALUE=DATE:20240205
DTSTAMP:20260422T043643
CREATED:20230615T205047Z
LAST-MODIFIED:20230615T205047Z
UID:2750-1706832000-1707091199@pfkc.pl
SUMMARY:Ekstraliga Mężczyzn
DESCRIPTION:
URL:https://pfkc.pl/turnieje/ekstraliga-mezczyzn-2/
LOCATION:Curling Łódź\, Śnieżna 10\, Łódź\, 92-103\, Poland
CATEGORIES:liga
ATTACH;FMTTYPE=image/jpeg:https://pfkc.pl/wp-content/uploads/2023/03/plc_logo.jpg
END:VEVENT
BEGIN:VEVENT
DTSTART;VALUE=DATE:20240202
DTEND;VALUE=DATE:20240205
DTSTAMP:20260422T043643
CREATED:20230615T205156Z
LAST-MODIFIED:20230615T205156Z
UID:2754-1706832000-1707091199@pfkc.pl
SUMMARY:Ekstraliga Kobiet
DESCRIPTION:
URL:https://pfkc.pl/turnieje/ekstraliga-kobiet-2/
LOCATION:Curling Łódź\, Śnieżna 10\, Łódź\, 92-103\, Poland
CATEGORIES:liga
ATTACH;FMTTYPE=image/jpeg:https://pfkc.pl/wp-content/uploads/2023/03/plc_logo.jpg
END:VEVENT
BEGIN:VEVENT
DTSTART;VALUE=DATE:20240208
DTEND;VALUE=DATE:20240212
DTSTAMP:20260422T043643
CREATED:20230615T204315Z
LAST-MODIFIED:20230615T215354Z
UID:2735-1707350400-1707695999@pfkc.pl
SUMMARY:Mistrzostwa Polski Mężczyzn i Kobiet (eliminacje)
DESCRIPTION:
URL:https://pfkc.pl/turnieje/mistrzostwa-polski-mezczyzn-i-kobiet-eliminacje/
LOCATION:Curling Łódź\, Śnieżna 10\, Łódź\, 92-103\, Poland
CATEGORIES:Mistrzostwa Polski
ATTACH;FMTTYPE=image/jpeg:https://pfkc.pl/wp-content/uploads/2023/03/pfkc_logo_solo.jpg
END:VEVENT
BEGIN:VEVENT
DTSTART;VALUE=DATE:20240215
DTEND;VALUE=DATE:20240219
DTSTAMP:20260422T043643
CREATED:20230615T211850Z
LAST-MODIFIED:20230615T211850Z
UID:2794-1707955200-1708300799@pfkc.pl
SUMMARY:Sikawa Curling Classic 2024
DESCRIPTION:
URL:https://pfkc.pl/turnieje/sikawa-curling-classic-2024/
LOCATION:Curling Łódź\, Śnieżna 10\, Łódź\, 92-103\, Poland
CATEGORIES:turniej towarzyski
ORGANIZER;CN="Curling %C5%81%C3%B3d%C5%BA":MAILTO:kontakt@curlinglodz.pl
END:VEVENT
BEGIN:VEVENT
DTSTART;VALUE=DATE:20240224
DTEND;VALUE=DATE:20240225
DTSTAMP:20260422T043643
CREATED:20230615T211922Z
LAST-MODIFIED:20230615T211922Z
UID:2796-1708732800-1708819199@pfkc.pl
SUMMARY:Czwarty Bałucki Szpil
DESCRIPTION:
URL:https://pfkc.pl/turnieje/czwarty-balucki-szpil/
LOCATION:Curling Łódź\, Śnieżna 10\, Łódź\, 92-103\, Poland
CATEGORIES:turniej towarzyski
ORGANIZER;CN="Curling %C5%81%C3%B3d%C5%BA":MAILTO:kontakt@curlinglodz.pl
END:VEVENT
END:VCALENDAR