BEGIN:VCALENDAR
VERSION:2.0
PRODID:-//PFKC - ECPv6.15.20//NONSGML v1.0//EN
CALSCALE:GREGORIAN
METHOD:PUBLISH
X-WR-CALNAME:PFKC
X-ORIGINAL-URL:https://pfkc.pl
X-WR-CALDESC:Wydarzenia dla PFKC
REFRESH-INTERVAL;VALUE=DURATION:PT1H
X-Robots-Tag:noindex
X-PUBLISHED-TTL:PT1H
BEGIN:VTIMEZONE
TZID:Europe/Warsaw
BEGIN:DAYLIGHT
TZOFFSETFROM:+0100
TZOFFSETTO:+0200
TZNAME:CEST
DTSTART:20240331T010000
END:DAYLIGHT
BEGIN:STANDARD
TZOFFSETFROM:+0200
TZOFFSETTO:+0100
TZNAME:CET
DTSTART:20241027T010000
END:STANDARD
BEGIN:DAYLIGHT
TZOFFSETFROM:+0100
TZOFFSETTO:+0200
TZNAME:CEST
DTSTART:20250330T010000
END:DAYLIGHT
BEGIN:STANDARD
TZOFFSETFROM:+0200
TZOFFSETTO:+0100
TZNAME:CET
DTSTART:20251026T010000
END:STANDARD
BEGIN:DAYLIGHT
TZOFFSETFROM:+0100
TZOFFSETTO:+0200
TZNAME:CEST
DTSTART:20260329T010000
END:DAYLIGHT
BEGIN:STANDARD
TZOFFSETFROM:+0200
TZOFFSETTO:+0100
TZNAME:CET
DTSTART:20261025T010000
END:STANDARD
BEGIN:DAYLIGHT
TZOFFSETFROM:+0100
TZOFFSETTO:+0200
TZNAME:CEST
DTSTART:20270328T010000
END:DAYLIGHT
BEGIN:STANDARD
TZOFFSETFROM:+0200
TZOFFSETTO:+0100
TZNAME:CET
DTSTART:20271031T010000
END:STANDARD
END:VTIMEZONE
BEGIN:VEVENT
DTSTART;VALUE=DATE:20260116
DTEND;VALUE=DATE:20260119
DTSTAMP:20260421T163411
CREATED:20250521T185839Z
LAST-MODIFIED:20250521T185839Z
UID:4391-1768521600-1768780799@pfkc.pl
SUMMARY:Ekstraliga Mężczyzn
DESCRIPTION:
URL:https://pfkc.pl/turnieje/ekstraliga-mezczyzn-5/
LOCATION:Curling Łódź\, Śnieżna 10\, Łódź\, 92-103\, Poland
CATEGORIES:liga
ATTACH;FMTTYPE=image/jpeg:https://pfkc.pl/wp-content/uploads/2023/03/plc_logo.jpg
END:VEVENT
BEGIN:VEVENT
DTSTART;VALUE=DATE:20260102
DTEND;VALUE=DATE:20260105
DTSTAMP:20260421T163411
CREATED:20250521T185805Z
LAST-MODIFIED:20250521T190755Z
UID:4419-1767312000-1767571199@pfkc.pl
SUMMARY:PLC Par Mieszanych
DESCRIPTION:
URL:https://pfkc.pl/turnieje/plc-pary-mieszane-1/
LOCATION:Curling Łódź\, Śnieżna 10\, Łódź\, 92-103\, Poland
CATEGORIES:liga
ATTACH;FMTTYPE=image/jpeg:https://pfkc.pl/wp-content/uploads/2023/03/plc_logo.jpg
END:VEVENT
BEGIN:VEVENT
DTSTART;VALUE=DATE:20251227
DTEND;VALUE=DATE:20251230
DTSTAMP:20260421T163411
CREATED:20250521T184800Z
LAST-MODIFIED:20250521T184800Z
UID:4396-1766793600-1767052799@pfkc.pl
SUMMARY:Mistrzostwa Polski Juniorów Par Mieszanych
DESCRIPTION:
URL:https://pfkc.pl/turnieje/mistrzostwa-polski-juniorow-par-mieszanych-2025/
LOCATION:Curling Łódź\, Śnieżna 10\, Łódź\, 92-103\, Poland
CATEGORIES:Mistrzostwa Polski
ATTACH;FMTTYPE=image/jpeg:https://pfkc.pl/wp-content/uploads/2023/03/pfkc_logo_solo.jpg
END:VEVENT
BEGIN:VEVENT
DTSTART;VALUE=DATE:20251128
DTEND;VALUE=DATE:20251201
DTSTAMP:20260421T163411
CREATED:20250521T184712Z
LAST-MODIFIED:20250521T184712Z
UID:4382-1764288000-1764547199@pfkc.pl
SUMMARY:Mistrzostwa Polski w Curlingu na Wózkach (drużyny)
DESCRIPTION:
URL:https://pfkc.pl/turnieje/mistrzostwa-polski-w-curlingu-na-wozkach-druzyny-2025/
LOCATION:Curling Łódź\, Śnieżna 10\, Łódź\, 92-103\, Poland
CATEGORIES:Mistrzostwa Polski
ATTACH;FMTTYPE=image/jpeg:https://pfkc.pl/wp-content/uploads/2023/03/pfkc_logo_solo.jpg
END:VEVENT
BEGIN:VEVENT
DTSTART;VALUE=DATE:20251128
DTEND;VALUE=DATE:20251201
DTSTAMP:20260421T163411
CREATED:20250521T184602Z
LAST-MODIFIED:20250521T184602Z
UID:4397-1764288000-1764547199@pfkc.pl
SUMMARY:Mistrzostwa Polski Seniorów
DESCRIPTION:
URL:https://pfkc.pl/turnieje/mistrzostwa-polski-seniorow-2025/
LOCATION:Curling Łódź\, Śnieżna 10\, Łódź\, 92-103\, Poland
CATEGORIES:Mistrzostwa Polski
ATTACH;FMTTYPE=image/jpeg:https://pfkc.pl/wp-content/uploads/2023/03/pfkc_logo_solo.jpg
END:VEVENT
BEGIN:VEVENT
DTSTART;VALUE=DATE:20251114
DTEND;VALUE=DATE:20251117
DTSTAMP:20260421T163411
CREATED:20250521T185607Z
LAST-MODIFIED:20250521T185607Z
UID:4394-1763078400-1763337599@pfkc.pl
SUMMARY:Ekstraliga Kobiet
DESCRIPTION:
URL:https://pfkc.pl/turnieje/ekstraliga-kobiet-3/
LOCATION:Curling Łódź\, Śnieżna 10\, Łódź\, 92-103\, Poland
CATEGORIES:liga
ATTACH;FMTTYPE=image/jpeg:https://pfkc.pl/wp-content/uploads/2023/03/plc_logo.jpg
END:VEVENT
BEGIN:VEVENT
DTSTART;VALUE=DATE:20251114
DTEND;VALUE=DATE:20251117
DTSTAMP:20260421T163411
CREATED:20250521T185551Z
LAST-MODIFIED:20250521T185551Z
UID:4395-1763078400-1763337599@pfkc.pl
SUMMARY:Ekstraliga Mężczyzn
DESCRIPTION:
URL:https://pfkc.pl/turnieje/ekstraliga-mezczyzn-4/
LOCATION:Curling Łódź\, Śnieżna 10\, Łódź\, 92-103\, Poland
CATEGORIES:liga
ATTACH;FMTTYPE=image/jpeg:https://pfkc.pl/wp-content/uploads/2023/03/plc_logo.jpg
END:VEVENT
BEGIN:VEVENT
DTSTART;VALUE=DATE:20251016
DTEND;VALUE=DATE:20251020
DTSTAMP:20260421T163411
CREATED:20250521T184509Z
LAST-MODIFIED:20250521T184509Z
UID:4401-1760572800-1760918399@pfkc.pl
SUMMARY:Mistrzostwa Polski Par Mieszanych (finały)
DESCRIPTION:
URL:https://pfkc.pl/turnieje/mistrzostwa-polski-par-mieszanych-finaly-2025/
LOCATION:Curling Łódź\, Śnieżna 10\, Łódź\, 92-103\, Poland
CATEGORIES:Mistrzostwa Polski
ATTACH;FMTTYPE=image/jpeg:https://pfkc.pl/wp-content/uploads/2023/03/pfkc_logo_solo.jpg
END:VEVENT
BEGIN:VEVENT
DTSTART;VALUE=DATE:20251010
DTEND;VALUE=DATE:20251013
DTSTAMP:20260421T163411
CREATED:20250521T185526Z
LAST-MODIFIED:20250521T185526Z
UID:4400-1760054400-1760313599@pfkc.pl
SUMMARY:2. PLC Mężczyzn
DESCRIPTION:
URL:https://pfkc.pl/turnieje/2-plc-mezczyzn-3/
LOCATION:Curling Łódź\, Śnieżna 10\, Łódź\, 92-103\, Poland
CATEGORIES:liga
ATTACH;FMTTYPE=image/jpeg:https://pfkc.pl/wp-content/uploads/2023/03/plc_logo.jpg
END:VEVENT
BEGIN:VEVENT
DTSTART;VALUE=DATE:20251010
DTEND;VALUE=DATE:20251013
DTSTAMP:20260421T163411
CREATED:20250521T185455Z
LAST-MODIFIED:20250521T185455Z
UID:4393-1760054400-1760313599@pfkc.pl
SUMMARY:1. PLC Mężczyzn
DESCRIPTION:
URL:https://pfkc.pl/turnieje/1-plc-mezczyzn-2/
LOCATION:Curling Łódź\, Śnieżna 10\, Łódź\, 92-103\, Poland
CATEGORIES:liga
ATTACH;FMTTYPE=image/jpeg:https://pfkc.pl/wp-content/uploads/2023/03/plc_logo.jpg
END:VEVENT
BEGIN:VEVENT
DTSTART;VALUE=DATE:20251003
DTEND;VALUE=DATE:20251006
DTSTAMP:20260421T163411
CREATED:20250521T185408Z
LAST-MODIFIED:20250521T185408Z
UID:4412-1759449600-1759708799@pfkc.pl
SUMMARY:1. PLC Kobiet
DESCRIPTION:
URL:https://pfkc.pl/turnieje/1-plc-kobiet-4/
LOCATION:Curling Łódź\, Śnieżna 10\, Łódź\, 92-103\, Poland
CATEGORIES:liga
ATTACH;FMTTYPE=image/jpeg:https://pfkc.pl/wp-content/uploads/2023/03/plc_logo.jpg
END:VEVENT
BEGIN:VEVENT
DTSTART;VALUE=DATE:20251003
DTEND;VALUE=DATE:20251006
DTSTAMP:20260421T163411
CREATED:20250521T185315Z
LAST-MODIFIED:20250521T185315Z
UID:4399-1759449600-1759708799@pfkc.pl
SUMMARY:3. PLC Mężczyzn
DESCRIPTION:
URL:https://pfkc.pl/turnieje/3-plc-mezczyzn-4/
LOCATION:Curling Łódź\, Śnieżna 10\, Łódź\, 92-103\, Poland
CATEGORIES:liga
ATTACH;FMTTYPE=image/jpeg:https://pfkc.pl/wp-content/uploads/2023/03/plc_logo.jpg
END:VEVENT
BEGIN:VEVENT
DTSTART;VALUE=DATE:20250919
DTEND;VALUE=DATE:20250922
DTSTAMP:20260421T163411
CREATED:20250521T183950Z
LAST-MODIFIED:20250521T183950Z
UID:4380-1758240000-1758499199@pfkc.pl
SUMMARY:Mistrzostwa Polski Par Mieszanych (eliminacje)
DESCRIPTION:
URL:https://pfkc.pl/turnieje/mistrzostwa-polski-par-mieszanych-eliminacje-2025/
LOCATION:Curling Łódź\, Śnieżna 10\, Łódź\, 92-103\, Poland
CATEGORIES:Mistrzostwa Polski
ATTACH;FMTTYPE=image/jpeg:https://pfkc.pl/wp-content/uploads/2023/03/pfkc_logo_solo.jpg
END:VEVENT
BEGIN:VEVENT
DTSTART;VALUE=DATE:20250410
DTEND;VALUE=DATE:20250414
DTSTAMP:20260421T163411
CREATED:20240607T145102Z
LAST-MODIFIED:20240607T145102Z
UID:3736-1744243200-1744588799@pfkc.pl
SUMMARY:Mistrzostwa Polski w Curlingu na Wózkach (drużyny)
DESCRIPTION:
URL:https://pfkc.pl/turnieje/mistrzostwa-polski-w-curlingu-na-wozkach-druzyny/
LOCATION:Curling Łódź\, Śnieżna 10\, Łódź\, 92-103\, Poland
CATEGORIES:Mistrzostwa Polski
ATTACH;FMTTYPE=image/jpeg:https://pfkc.pl/wp-content/uploads/2023/03/pfkc_logo_solo.jpg
END:VEVENT
BEGIN:VEVENT
DTSTART;VALUE=DATE:20250410
DTEND;VALUE=DATE:20250414
DTSTAMP:20260421T163411
CREATED:20240607T144841Z
LAST-MODIFIED:20240607T144841Z
UID:3731-1744243200-1744588799@pfkc.pl
SUMMARY:Mistrzostwa Polski Mikstów
DESCRIPTION:
URL:https://pfkc.pl/turnieje/mistrzostwa-polski-mikstow-2025/
LOCATION:Curling Łódź\, Śnieżna 10\, Łódź\, 92-103\, Poland
CATEGORIES:Mistrzostwa Polski
ATTACH;FMTTYPE=image/jpeg:https://pfkc.pl/wp-content/uploads/2023/03/pfkc_logo_solo.jpg
END:VEVENT
BEGIN:VEVENT
DTSTART;VALUE=DATE:20250404
DTEND;VALUE=DATE:20250407
DTSTAMP:20260421T163411
CREATED:20240607T202711Z
LAST-MODIFIED:20240607T202711Z
UID:3763-1743724800-1743983999@pfkc.pl
SUMMARY:Baraże
DESCRIPTION:
URL:https://pfkc.pl/turnieje/baraze-2/
LOCATION:Curling Łódź\, Śnieżna 10\, Łódź\, 92-103\, Poland
CATEGORIES:liga
ATTACH;FMTTYPE=image/jpeg:https://pfkc.pl/wp-content/uploads/2023/03/plc_logo.jpg
END:VEVENT
BEGIN:VEVENT
DTSTART;VALUE=DATE:20250404
DTEND;VALUE=DATE:20250407
DTSTAMP:20260421T163411
CREATED:20240607T144951Z
LAST-MODIFIED:20240607T144951Z
UID:3734-1743724800-1743983999@pfkc.pl
SUMMARY:Olympic Qualification Event oraz A-Division Challenge
DESCRIPTION:
URL:https://pfkc.pl/turnieje/olympic-qualification-event-oraz-a-division-challenge/
LOCATION:Curling Łódź\, Śnieżna 10\, Łódź\, 92-103\, Poland
CATEGORIES:turniej kwalifikacyjny
ATTACH;FMTTYPE=image/jpeg:https://pfkc.pl/wp-content/uploads/2023/03/pfkc_logo_solo.jpg
END:VEVENT
BEGIN:VEVENT
DTSTART;VALUE=DATE:20250328
DTEND;VALUE=DATE:20250331
DTSTAMP:20260421T163411
CREATED:20240607T144728Z
LAST-MODIFIED:20240607T144728Z
UID:3729-1743120000-1743379199@pfkc.pl
SUMMARY:Mistrzostwa Polski Juniorów 2025
DESCRIPTION:
URL:https://pfkc.pl/turnieje/mistrzostwa-polski-juniorow-2025/
LOCATION:Curling Łódź\, Śnieżna 10\, Łódź\, 92-103\, Poland
CATEGORIES:Mistrzostwa Polski
ATTACH;FMTTYPE=image/jpeg:https://pfkc.pl/wp-content/uploads/2023/03/pfkc_logo_solo.jpg
END:VEVENT
BEGIN:VEVENT
DTSTART;VALUE=DATE:20250321
DTEND;VALUE=DATE:20250324
DTSTAMP:20260421T163411
CREATED:20241031T074823Z
LAST-MODIFIED:20241031T075007Z
UID:4032-1742515200-1742774399@pfkc.pl
SUMMARY:4. Świdnicki Turniej Curlingowy
DESCRIPTION:Turniej w ramach European Capital of Culture Curling Cup
URL:https://pfkc.pl/turnieje/4-swidnicki-turniej-curlingowy/
LOCATION:Lodowisko OSiR Świdnica\, ul. Śląska 35b\, Świdnica\, 58-100\, Poland
CATEGORIES:turniej towarzyski
ATTACH;FMTTYPE=image/jpeg:https://pfkc.pl/wp-content/uploads/2024/10/c677689a-5db8-4550-8059-f9a714b22a93.jpg
END:VEVENT
BEGIN:VEVENT
DTSTART;VALUE=DATE:20250320
DTEND;VALUE=DATE:20250324
DTSTAMP:20260421T163411
CREATED:20240607T205243Z
LAST-MODIFIED:20240607T205243Z
UID:3785-1742428800-1742774399@pfkc.pl
SUMMARY:WCT Curling Łódź Mixed Doubles Masters 2025
DESCRIPTION:
URL:https://pfkc.pl/turnieje/wct-curling-lodz-mixed-doubles-masters-2025/
LOCATION:Curling Łódź\, Śnieżna 10\, Łódź\, 92-103\, Poland
CATEGORIES:World Curling Tour
ATTACH;FMTTYPE=image/png:https://pfkc.pl/wp-content/uploads/2024/06/MD-masters-S.png
ORGANIZER;CN="Curling %C5%81%C3%B3d%C5%BA":MAILTO:kontakt@curlinglodz.pl
END:VEVENT
BEGIN:VEVENT
DTSTART;VALUE=DATE:20250305
DTEND;VALUE=DATE:20250310
DTSTAMP:20260421T163411
CREATED:20240607T144443Z
LAST-MODIFIED:20240607T144443Z
UID:3725-1741132800-1741564799@pfkc.pl
SUMMARY:Mistrzostwa Polski Mężczyzn i Kobiet (finały)
DESCRIPTION:
URL:https://pfkc.pl/turnieje/mistrzostwa-polski-mezczyzn-i-kobiet-finaly-2025/
LOCATION:Curling Łódź\, Śnieżna 10\, Łódź\, 92-103\, Poland
CATEGORIES:Mistrzostwa Polski
ATTACH;FMTTYPE=image/jpeg:https://pfkc.pl/wp-content/uploads/2023/03/pfkc_logo_solo.jpg
END:VEVENT
BEGIN:VEVENT
DTSTART;VALUE=DATE:20250228
DTEND;VALUE=DATE:20250303
DTSTAMP:20260421T163411
CREATED:20240607T202605Z
LAST-MODIFIED:20240607T202605Z
UID:3761-1740700800-1740959999@pfkc.pl
SUMMARY:3. PLC Mężczyzn
DESCRIPTION:
URL:https://pfkc.pl/turnieje/3-plc-mezczyzn-2025-2/
LOCATION:Curling Łódź\, Śnieżna 10\, Łódź\, 92-103\, Poland
CATEGORIES:liga
ATTACH;FMTTYPE=image/jpeg:https://pfkc.pl/wp-content/uploads/2023/03/plc_logo.jpg
END:VEVENT
BEGIN:VEVENT
DTSTART;VALUE=DATE:20250228
DTEND;VALUE=DATE:20250303
DTSTAMP:20260421T163411
CREATED:20240607T202344Z
LAST-MODIFIED:20240607T202344Z
UID:3756-1740700800-1740959999@pfkc.pl
SUMMARY:2. PLC Mężczyzn
DESCRIPTION:
URL:https://pfkc.pl/turnieje/2-plc-mezczyzn-2/
LOCATION:Curling Łódź\, Śnieżna 10\, Łódź\, 92-103\, Poland
CATEGORIES:liga
ATTACH;FMTTYPE=image/jpeg:https://pfkc.pl/wp-content/uploads/2023/03/plc_logo.jpg
END:VEVENT
BEGIN:VEVENT
DTSTART;VALUE=DATE:20250222
DTEND;VALUE=DATE:20250223
DTSTAMP:20260421T163411
CREATED:20240607T205333Z
LAST-MODIFIED:20240607T205333Z
UID:3788-1740182400-1740268799@pfkc.pl
SUMMARY:Piąty Bałucki Szpil
DESCRIPTION:
URL:https://pfkc.pl/turnieje/piaty-balucki-szpil/
LOCATION:Curling Łódź\, Śnieżna 10\, Łódź\, 92-103\, Poland
CATEGORIES:turniej towarzyski
ORGANIZER;CN="Curling %C5%81%C3%B3d%C5%BA":MAILTO:kontakt@curlinglodz.pl
END:VEVENT
BEGIN:VEVENT
DTSTART;VALUE=DATE:20250206
DTEND;VALUE=DATE:20250210
DTSTAMP:20260421T163411
CREATED:20240607T144322Z
LAST-MODIFIED:20240607T144322Z
UID:3723-1738800000-1739145599@pfkc.pl
SUMMARY:Mistrzostwa Polski Mężczyzn i Kobiet (eliminacje)
DESCRIPTION:
URL:https://pfkc.pl/turnieje/mistrzostwa-polski-mezczyzn-i-kobiet-eliminacje-2025/
LOCATION:Curling Łódź\, Śnieżna 10\, Łódź\, 92-103\, Poland
CATEGORIES:Mistrzostwa Polski
ATTACH;FMTTYPE=image/jpeg:https://pfkc.pl/wp-content/uploads/2023/03/pfkc_logo_solo.jpg
END:VEVENT
BEGIN:VEVENT
DTSTART;VALUE=DATE:20250131
DTEND;VALUE=DATE:20250203
DTSTAMP:20260421T163411
CREATED:20240607T145749Z
LAST-MODIFIED:20240607T145749Z
UID:3744-1738281600-1738540799@pfkc.pl
SUMMARY:Ekstraliga Kobiet
DESCRIPTION:
URL:https://pfkc.pl/turnieje/ekstraliga-kobiet-2025-2/
LOCATION:Curling Łódź\, Śnieżna 10\, Łódź\, 92-103\, Poland
CATEGORIES:liga
ATTACH;FMTTYPE=image/jpeg:https://pfkc.pl/wp-content/uploads/2023/03/plc_logo.jpg
END:VEVENT
BEGIN:VEVENT
DTSTART;VALUE=DATE:20250131
DTEND;VALUE=DATE:20250203
DTSTAMP:20260421T163411
CREATED:20240607T145654Z
LAST-MODIFIED:20240607T145654Z
UID:3742-1738281600-1738540799@pfkc.pl
SUMMARY:Ekstraliga Mężczyzn
DESCRIPTION:
URL:https://pfkc.pl/turnieje/ekstraliga-mezczyzn-3/
LOCATION:Curling Łódź\, Śnieżna 10\, Łódź\, 92-103\, Poland
CATEGORIES:liga
ATTACH;FMTTYPE=image/jpeg:https://pfkc.pl/wp-content/uploads/2023/03/plc_logo.jpg
END:VEVENT
BEGIN:VEVENT
DTSTART;VALUE=DATE:20250125
DTEND;VALUE=DATE:20250127
DTSTAMP:20260421T163411
CREATED:20240607T205039Z
LAST-MODIFIED:20240607T205039Z
UID:3781-1737763200-1737935999@pfkc.pl
SUMMARY:ŁDZ OPEN 2025
DESCRIPTION:
URL:https://pfkc.pl/turnieje/ldz-open-2025/
LOCATION:Curling Łódź\, Śnieżna 10\, Łódź\, 92-103\, Poland
CATEGORIES:turniej towarzyski
ATTACH;FMTTYPE=image/png:https://pfkc.pl/wp-content/uploads/2024/06/designB-0166-01.png
ORGANIZER;CN="Curling %C5%81%C3%B3d%C5%BA":MAILTO:kontakt@curlinglodz.pl
END:VEVENT
BEGIN:VEVENT
DTSTART;VALUE=DATE:20250110
DTEND;VALUE=DATE:20250113
DTSTAMP:20260421T163411
CREATED:20240607T151850Z
LAST-MODIFIED:20240607T151850Z
UID:3752-1736467200-1736726399@pfkc.pl
SUMMARY:1. PLC Mężczyzn
DESCRIPTION:
URL:https://pfkc.pl/turnieje/1-plc-mezczyzn-2025-2/
LOCATION:Curling Łódź\, Śnieżna 10\, Łódź\, 92-103\, Poland
CATEGORIES:liga
ATTACH;FMTTYPE=image/jpeg:https://pfkc.pl/wp-content/uploads/2023/03/plc_logo.jpg
END:VEVENT
BEGIN:VEVENT
DTSTART;VALUE=DATE:20250110
DTEND;VALUE=DATE:20250113
DTSTAMP:20260421T163411
CREATED:20240607T151651Z
LAST-MODIFIED:20240607T151651Z
UID:3748-1736467200-1736726399@pfkc.pl
SUMMARY:1. PLC Kobiet
DESCRIPTION:
URL:https://pfkc.pl/turnieje/1-plc-kobiet-3/
LOCATION:Curling Łódź\, Śnieżna 10\, Łódź\, 92-103\, Poland
CATEGORIES:liga
ATTACH;FMTTYPE=image/jpeg:https://pfkc.pl/wp-content/uploads/2023/03/plc_logo.jpg
END:VEVENT
END:VCALENDAR