BEGIN:VCALENDAR
VERSION:2.0
PRODID:-//PFKC - ECPv6.15.20//NONSGML v1.0//EN
CALSCALE:GREGORIAN
METHOD:PUBLISH
X-ORIGINAL-URL:https://pfkc.pl
X-WR-CALDESC:Wydarzenia dla PFKC
REFRESH-INTERVAL;VALUE=DURATION:PT1H
X-Robots-Tag:noindex
X-PUBLISHED-TTL:PT1H
BEGIN:VTIMEZONE
TZID:Europe/Warsaw
BEGIN:DAYLIGHT
TZOFFSETFROM:+0100
TZOFFSETTO:+0200
TZNAME:CEST
DTSTART:20220327T010000
END:DAYLIGHT
BEGIN:STANDARD
TZOFFSETFROM:+0200
TZOFFSETTO:+0100
TZNAME:CET
DTSTART:20221030T010000
END:STANDARD
BEGIN:DAYLIGHT
TZOFFSETFROM:+0100
TZOFFSETTO:+0200
TZNAME:CEST
DTSTART:20230326T010000
END:DAYLIGHT
BEGIN:STANDARD
TZOFFSETFROM:+0200
TZOFFSETTO:+0100
TZNAME:CET
DTSTART:20231029T010000
END:STANDARD
BEGIN:DAYLIGHT
TZOFFSETFROM:+0100
TZOFFSETTO:+0200
TZNAME:CEST
DTSTART:20240331T010000
END:DAYLIGHT
BEGIN:STANDARD
TZOFFSETFROM:+0200
TZOFFSETTO:+0100
TZNAME:CET
DTSTART:20241027T010000
END:STANDARD
END:VTIMEZONE
BEGIN:VEVENT
DTSTART;VALUE=DATE:20231014
DTEND;VALUE=DATE:20231022
DTSTAMP:20260422T075254
CREATED:20230615T212511Z
LAST-MODIFIED:20230615T212511Z
UID:2800-1697241600-1697932799@pfkc.pl
SUMMARY:World Mixed Curling Championship 2023
DESCRIPTION:Aberdeen\, Szkocja
URL:https://pfkc.pl/turnieje/world-mixed-curling-championship-2023/
CATEGORIES:turniej WCF
ATTACH;FMTTYPE=image/png:https://pfkc.pl/wp-content/uploads/2023/03/FI-WCF.png
END:VEVENT
BEGIN:VEVENT
DTSTART;VALUE=DATE:20231013
DTEND;VALUE=DATE:20231016
DTSTAMP:20260422T075254
CREATED:20230615T203742Z
LAST-MODIFIED:20230615T203742Z
UID:2727-1697155200-1697414399@pfkc.pl
SUMMARY:Mistrzostwa Polski Juniorów
DESCRIPTION:
URL:https://pfkc.pl/turnieje/mistrzostwa-polski-juniorow/
LOCATION:Curling Łódź\, Śnieżna 10\, Łódź\, 92-103\, Poland
CATEGORIES:Mistrzostwa Polski
ATTACH;FMTTYPE=image/jpeg:https://pfkc.pl/wp-content/uploads/2023/03/pfkc_logo_solo.jpg
END:VEVENT
BEGIN:VEVENT
DTSTART;VALUE=DATE:20231006
DTEND;VALUE=DATE:20231009
DTSTAMP:20260422T075254
CREATED:20230615T205130Z
LAST-MODIFIED:20230615T205130Z
UID:2752-1696550400-1696809599@pfkc.pl
SUMMARY:Ekstraliga Kobiet
DESCRIPTION:
URL:https://pfkc.pl/turnieje/ekstraliga-kobiet/
LOCATION:Curling Łódź\, Śnieżna 10\, Łódź\, 92-103\, Poland
CATEGORIES:liga
ATTACH;FMTTYPE=image/jpeg:https://pfkc.pl/wp-content/uploads/2023/03/plc_logo.jpg
END:VEVENT
BEGIN:VEVENT
DTSTART;VALUE=DATE:20230929
DTEND;VALUE=DATE:20231002
DTSTAMP:20260422T075254
CREATED:20230615T203445Z
LAST-MODIFIED:20230615T203637Z
UID:2723-1695945600-1696204799@pfkc.pl
SUMMARY:Mistrzostwa Polski Par Mieszanych (eliminacje)
DESCRIPTION:
URL:https://pfkc.pl/turnieje/mistrzostwa-polski-par-mieszanych-eliminacje/
LOCATION:Curling Łódź\, Śnieżna 10\, Łódź\, 92-103\, Poland
CATEGORIES:Mistrzostwa Polski
ATTACH;FMTTYPE=image/jpeg:https://pfkc.pl/wp-content/uploads/2023/03/pfkc_logo_solo.jpg
END:VEVENT
BEGIN:VEVENT
DTSTART;VALUE=DATE:20230915
DTEND;VALUE=DATE:20230918
DTSTAMP:20260422T075254
CREATED:20230615T211258Z
LAST-MODIFIED:20230615T211258Z
UID:2780-1694736000-1694995199@pfkc.pl
SUMMARY:Galante Bajbory 2023
DESCRIPTION:
URL:https://pfkc.pl/turnieje/galante-bajbory-2023/
LOCATION:Curling Łódź\, Śnieżna 10\, Łódź\, 92-103\, Poland
CATEGORIES:turniej towarzyski
ORGANIZER;CN="Curling %C5%81%C3%B3d%C5%BA":MAILTO:kontakt@curlinglodz.pl
END:VEVENT
BEGIN:VEVENT
DTSTART;VALUE=DATE:20230909
DTEND;VALUE=DATE:20230910
DTSTAMP:20260422T075254
CREATED:20230615T211213Z
LAST-MODIFIED:20230615T211213Z
UID:2778-1694217600-1694303999@pfkc.pl
SUMMARY:Dwójkowa Sparingsobota
DESCRIPTION:
URL:https://pfkc.pl/turnieje/dwojkowa-sparingsobota/
LOCATION:Curling Łódź\, Śnieżna 10\, Łódź\, 92-103\, Poland
ORGANIZER;CN="Curling %C5%81%C3%B3d%C5%BA":MAILTO:kontakt@curlinglodz.pl
END:VEVENT
BEGIN:VEVENT
DTSTART;VALUE=DATE:20230826
DTEND;VALUE=DATE:20230906
DTSTAMP:20260422T075254
CREATED:20230330T195623Z
LAST-MODIFIED:20230331T113259Z
UID:2234-1693008000-1693958399@pfkc.pl
SUMMARY:12th Mazury Curling Festiwal
DESCRIPTION:
URL:https://pfkc.pl/turnieje/12th-mazury-curling-festiwal/
LOCATION:Mazurskie Centrum Sportów Lodowych w Giżycku\, ul. Królowej Jadwigi 7D\, Giżycko\, Poland
CATEGORIES:camp,turniej towarzyski
ATTACH;FMTTYPE=image/png:https://pfkc.pl/wp-content/uploads/2023/03/AddText_02-02-11.50.08.png
END:VEVENT
BEGIN:VEVENT
DTSTART;VALUE=DATE:20230428
DTEND;VALUE=DATE:20230507
DTSTAMP:20260422T075254
CREATED:20230330T201302Z
LAST-MODIFIED:20230331T121148Z
UID:2242-1682640000-1683417599@pfkc.pl
SUMMARY:European Curling Championships 2023 C-Division
DESCRIPTION:Mistrzostwach Europy Dywizji C\nDumfries\, Szkocja
URL:https://pfkc.pl/turnieje/european-curling-championships-2023-c-division/
CATEGORIES:turniej WCF
ATTACH;FMTTYPE=image/png:https://pfkc.pl/wp-content/uploads/2023/03/FI-WCF.png
END:VEVENT
BEGIN:VEVENT
DTSTART;VALUE=DATE:20230421
DTEND;VALUE=DATE:20230430
DTSTAMP:20260422T075254
CREATED:20230330T201022Z
LAST-MODIFIED:20230330T201759Z
UID:2239-1682035200-1682812799@pfkc.pl
SUMMARY:World Senior Curling Championships 2023
DESCRIPTION:Mistrzostwach Świata Seniorów 50+\nGangneung\, Korea
URL:https://pfkc.pl/turnieje/world-senior-curling-championships-2023/
CATEGORIES:turniej WCF
ATTACH;FMTTYPE=image/png:https://pfkc.pl/wp-content/uploads/2023/03/2023-WSCC.png
END:VEVENT
BEGIN:VEVENT
DTSTART;VALUE=DATE:20230421
DTEND;VALUE=DATE:20230424
DTSTAMP:20260422T075254
CREATED:20230329T200710Z
LAST-MODIFIED:20230331T113020Z
UID:2185-1682035200-1682294399@pfkc.pl
SUMMARY:Turniej o Puchar PFKC Mixtów 2023
DESCRIPTION:
URL:https://pfkc.pl/turnieje/turniej-o-puchar-pfkc-mixtow-2023/
LOCATION:Curling Łódź\, Śnieżna 10\, Łódź\, 92-103\, Poland
CATEGORIES:turniej kwalifikacyjny
ATTACH;FMTTYPE=image/jpeg:https://pfkc.pl/wp-content/uploads/2023/03/pfkc_logo_solo.jpg
END:VEVENT
BEGIN:VEVENT
DTSTART;VALUE=DATE:20230421
DTEND;VALUE=DATE:20230424
DTSTAMP:20260422T075254
CREATED:20230329T200015Z
LAST-MODIFIED:20230331T113326Z
UID:2177-1682035200-1682294399@pfkc.pl
SUMMARY:IX Turniej o Czarny Kamień 2023
DESCRIPTION:
URL:https://pfkc.pl/turnieje/ix-turniej-o-czarny-kamien-2023/
LOCATION:Lodowisko Jantor\, ul. Nałkowskiej 11\, Katowice\, Poland
CATEGORIES:turniej towarzyski
ATTACH;FMTTYPE=image/jpeg:https://pfkc.pl/wp-content/uploads/2023/03/poster_139-5836.jpg
END:VEVENT
BEGIN:VEVENT
DTSTART;VALUE=DATE:20230415
DTEND;VALUE=DATE:20230417
DTSTAMP:20260422T075254
CREATED:20230329T200443Z
LAST-MODIFIED:20230331T113353Z
UID:2181-1681516800-1681689599@pfkc.pl
SUMMARY:Polska Liga Curlingu 2023 - Pary mieszane
DESCRIPTION:Drugi weekend rozgrywek Par Mieszanych Polskiej Ligi Curlingu.
URL:https://pfkc.pl/turnieje/plc-pary-2023/
LOCATION:Curling Łódź\, Śnieżna 10\, Łódź\, 92-103\, Poland
CATEGORIES:liga
ATTACH;FMTTYPE=image/jpeg:https://pfkc.pl/wp-content/uploads/2023/03/plc_logo.jpg
END:VEVENT
BEGIN:VEVENT
DTSTART;VALUE=DATE:20230414
DTEND;VALUE=DATE:20230417
DTSTAMP:20260422T075254
CREATED:20230330T210915Z
LAST-MODIFIED:20230331T112226Z
UID:2286-1681430400-1681689599@pfkc.pl
SUMMARY:Grand Prix Polski Juniorów Łódź 2023
DESCRIPTION:
URL:https://pfkc.pl/turnieje/grand-prix-polski-juniorow-lodz-2023/
LOCATION:Curling Łódź\, Śnieżna 10\, Łódź\, 92-103\, Poland
CATEGORIES:turniej towarzyski
ATTACH;FMTTYPE=image/png:https://pfkc.pl/wp-content/uploads/2023/03/gpj_lodz.png
ORGANIZER;CN="Curling %C5%81%C3%B3d%C5%BA":MAILTO:kontakt@curlinglodz.pl
END:VEVENT
BEGIN:VEVENT
DTSTART;VALUE=DATE:20230401
DTEND;VALUE=DATE:20230403
DTSTAMP:20260422T075254
CREATED:20230329T195120Z
LAST-MODIFIED:20230331T113407Z
UID:2172-1680307200-1680479999@pfkc.pl
SUMMARY:Polska Liga Curlingu 2022 - Baraże
DESCRIPTION:
URL:https://pfkc.pl/turnieje/plc-2022-baraze/
LOCATION:Curling Łódź\, Śnieżna 10\, Łódź\, 92-103\, Poland
CATEGORIES:liga
ATTACH;FMTTYPE=image/jpeg:https://pfkc.pl/wp-content/uploads/2023/03/plc_logo.jpg
END:VEVENT
BEGIN:VEVENT
DTSTART;VALUE=DATE:20230324
DTEND;VALUE=DATE:20230327
DTSTAMP:20260422T075254
CREATED:20230329T195509Z
LAST-MODIFIED:20230331T113548Z
UID:2174-1679616000-1679875199@pfkc.pl
SUMMARY:Turniej Ośmiu Miast 2023
DESCRIPTION:
URL:https://pfkc.pl/turnieje/turniej-osmiu-miast-2023/
LOCATION:Curling w Krakowie\, ul. Lema 7 (Tauron Arena)\, Kraków\, Poland
CATEGORIES:turniej towarzyski
ATTACH;FMTTYPE=image/jpeg:https://pfkc.pl/wp-content/uploads/2023/03/poster_130-5474.jpg
END:VEVENT
BEGIN:VEVENT
DTSTART;VALUE=DATE:20230318
DTEND;VALUE=DATE:20230319
DTSTAMP:20260422T075254
CREATED:20230331T084247Z
LAST-MODIFIED:20230331T111610Z
UID:2370-1679097600-1679183999@pfkc.pl
SUMMARY:Nadzwyczajne Walne Zgromadzenie Delegatów Polskiej Federacji Klubów Curlingowych
DESCRIPTION:Godzina: 12:00\nMiejsce: Łódź
URL:https://pfkc.pl/turnieje/nadzwyczajne-walne-zgromadzenie-delegatow-polskiej-federacji-klubow-curlingowych/
ATTACH;FMTTYPE=image/jpeg:https://pfkc.pl/wp-content/uploads/2023/03/pfkc_logo_solo.jpg
END:VEVENT
BEGIN:VEVENT
DTSTART;VALUE=DATE:20230316
DTEND;VALUE=DATE:20230320
DTSTAMP:20260422T075254
CREATED:20230329T194839Z
LAST-MODIFIED:20230331T111649Z
UID:2170-1678924800-1679270399@pfkc.pl
SUMMARY:Turniej o Puchar PFKC Kobiet i Mężczyzn 2023
DESCRIPTION:
URL:https://pfkc.pl/turnieje/tk2023/
LOCATION:Curling Łódź\, Śnieżna 10\, Łódź\, 92-103\, Poland
CATEGORIES:turniej kwalifikacyjny
ATTACH;FMTTYPE=image/jpeg:https://pfkc.pl/wp-content/uploads/2023/03/pfkc_logo_solo.jpg
END:VEVENT
BEGIN:VEVENT
DTSTART;VALUE=DATE:20230310
DTEND;VALUE=DATE:20230313
DTSTAMP:20260422T075254
CREATED:20230201T135811Z
LAST-MODIFIED:20230329T194535Z
UID:1948-1678406400-1678665599@pfkc.pl
SUMMARY:2. Świdnicki Turniej Curlingowy
DESCRIPTION:
URL:https://pfkc.pl/turnieje/2-swidnicki-turniej-curlingowy/
LOCATION:Lodowisko OSiR Świdnica\, ul. Śląska 35b\, Świdnica\, 58-100\, Poland
CATEGORIES:turniej towarzyski
ATTACH;FMTTYPE=image/jpeg:https://pfkc.pl/wp-content/uploads/2023/02/poster_131-5385.jpg
END:VEVENT
BEGIN:VEVENT
DTSTART;VALUE=DATE:20230310
DTEND;VALUE=DATE:20230313
DTSTAMP:20260422T075254
CREATED:20230104T234725Z
LAST-MODIFIED:20230331T113704Z
UID:1508-1678406400-1678665599@pfkc.pl
SUMMARY:Grand Prix Polski Juniorów Świdnica 2023
DESCRIPTION:
URL:https://pfkc.pl/turnieje/gppj-swidnica-2023/
LOCATION:Lodowisko OSiR Świdnica\, ul. Śląska 35b\, Świdnica\, 58-100\, Poland
CATEGORIES:turniej towarzyski
ATTACH;FMTTYPE=image/jpeg:https://pfkc.pl/wp-content/uploads/2023/01/poster_143-9869.jpg
END:VEVENT
END:VCALENDAR