BEGIN:VCALENDAR
VERSION:2.0
PRODID:-//PFKC - ECPv6.15.20//NONSGML v1.0//EN
CALSCALE:GREGORIAN
METHOD:PUBLISH
X-ORIGINAL-URL:https://pfkc.pl
X-WR-CALDESC:Wydarzenia dla PFKC
REFRESH-INTERVAL;VALUE=DURATION:PT1H
X-Robots-Tag:noindex
X-PUBLISHED-TTL:PT1H
BEGIN:VTIMEZONE
TZID:Europe/Warsaw
BEGIN:DAYLIGHT
TZOFFSETFROM:+0100
TZOFFSETTO:+0200
TZNAME:CEST
DTSTART:20220327T010000
END:DAYLIGHT
BEGIN:STANDARD
TZOFFSETFROM:+0200
TZOFFSETTO:+0100
TZNAME:CET
DTSTART:20221030T010000
END:STANDARD
BEGIN:DAYLIGHT
TZOFFSETFROM:+0100
TZOFFSETTO:+0200
TZNAME:CEST
DTSTART:20230326T010000
END:DAYLIGHT
BEGIN:STANDARD
TZOFFSETFROM:+0200
TZOFFSETTO:+0100
TZNAME:CET
DTSTART:20231029T010000
END:STANDARD
BEGIN:DAYLIGHT
TZOFFSETFROM:+0100
TZOFFSETTO:+0200
TZNAME:CEST
DTSTART:20240331T010000
END:DAYLIGHT
BEGIN:STANDARD
TZOFFSETFROM:+0200
TZOFFSETTO:+0100
TZNAME:CET
DTSTART:20241027T010000
END:STANDARD
BEGIN:DAYLIGHT
TZOFFSETFROM:+0100
TZOFFSETTO:+0200
TZNAME:CEST
DTSTART:20250330T010000
END:DAYLIGHT
BEGIN:STANDARD
TZOFFSETFROM:+0200
TZOFFSETTO:+0100
TZNAME:CET
DTSTART:20251026T010000
END:STANDARD
END:VTIMEZONE
BEGIN:VEVENT
DTSTART;VALUE=DATE:20240202
DTEND;VALUE=DATE:20240205
DTSTAMP:20260422T035053
CREATED:20230615T205156Z
LAST-MODIFIED:20230615T205156Z
UID:2754-1706832000-1707091199@pfkc.pl
SUMMARY:Ekstraliga Kobiet
DESCRIPTION:
URL:https://pfkc.pl/turnieje/ekstraliga-kobiet-2/
LOCATION:Curling Łódź\, Śnieżna 10\, Łódź\, 92-103\, Poland
CATEGORIES:liga
ATTACH;FMTTYPE=image/jpeg:https://pfkc.pl/wp-content/uploads/2023/03/plc_logo.jpg
END:VEVENT
BEGIN:VEVENT
DTSTART;VALUE=DATE:20240202
DTEND;VALUE=DATE:20240205
DTSTAMP:20260422T035053
CREATED:20230615T205047Z
LAST-MODIFIED:20230615T205047Z
UID:2750-1706832000-1707091199@pfkc.pl
SUMMARY:Ekstraliga Mężczyzn
DESCRIPTION:
URL:https://pfkc.pl/turnieje/ekstraliga-mezczyzn-2/
LOCATION:Curling Łódź\, Śnieżna 10\, Łódź\, 92-103\, Poland
CATEGORIES:liga
ATTACH;FMTTYPE=image/jpeg:https://pfkc.pl/wp-content/uploads/2023/03/plc_logo.jpg
END:VEVENT
BEGIN:VEVENT
DTSTART;VALUE=DATE:20240127
DTEND;VALUE=DATE:20240129
DTSTAMP:20260422T035053
CREATED:20230615T211814Z
LAST-MODIFIED:20230615T211814Z
UID:2792-1706313600-1706486399@pfkc.pl
SUMMARY:ŁDZ OPEN
DESCRIPTION:
URL:https://pfkc.pl/turnieje/ldz-open/
LOCATION:Curling Łódź\, Śnieżna 10\, Łódź\, 92-103\, Poland
CATEGORIES:turniej towarzyski
ORGANIZER;CN="Curling %C5%81%C3%B3d%C5%BA":MAILTO:kontakt@curlinglodz.pl
END:VEVENT
BEGIN:VEVENT
DTSTART;VALUE=DATE:20240113
DTEND;VALUE=DATE:20240115
DTSTAMP:20260422T035053
CREATED:20230615T205550Z
LAST-MODIFIED:20230615T205550Z
UID:2762-1705104000-1705276799@pfkc.pl
SUMMARY:1. PLC Kobiet
DESCRIPTION:
URL:https://pfkc.pl/turnieje/1-plc-kobiet-2/
LOCATION:Curling Łódź\, Śnieżna 10\, Łódź\, 92-103\, Poland
CATEGORIES:liga
ATTACH;FMTTYPE=image/jpeg:https://pfkc.pl/wp-content/uploads/2023/03/plc_logo.jpg
ORGANIZER;CN="Curling %C5%81%C3%B3d%C5%BA":MAILTO:kontakt@curlinglodz.pl
END:VEVENT
BEGIN:VEVENT
DTSTART;VALUE=DATE:20240113
DTEND;VALUE=DATE:20240115
DTSTAMP:20260422T035053
CREATED:20230615T205458Z
LAST-MODIFIED:20230617T110510Z
UID:2758-1705104000-1705276799@pfkc.pl
SUMMARY:1. PLC Mężczyzn
DESCRIPTION:
URL:https://pfkc.pl/turnieje/plc-mezczyzn-2/
LOCATION:Curling Łódź\, Śnieżna 10\, Łódź\, 92-103\, Poland
CATEGORIES:liga
ATTACH;FMTTYPE=image/jpeg:https://pfkc.pl/wp-content/uploads/2023/03/plc_logo.jpg
ORGANIZER;CN="Curling %C5%81%C3%B3d%C5%BA":MAILTO:kontakt@curlinglodz.pl
END:VEVENT
BEGIN:VEVENT
DTSTART;VALUE=DATE:20240105
DTEND;VALUE=DATE:20240108
DTSTAMP:20260422T035053
CREATED:20230615T211745Z
LAST-MODIFIED:20230615T212105Z
UID:2789-1704412800-1704671999@pfkc.pl
SUMMARY:O!Pary 2024
DESCRIPTION:
URL:https://pfkc.pl/turnieje/opary-2024/
LOCATION:Curling Łódź\, Śnieżna 10\, Łódź\, 92-103\, Poland
CATEGORIES:turniej towarzyski
ATTACH;FMTTYPE=image/png:https://pfkc.pl/wp-content/uploads/2023/06/opary2024.png
ORGANIZER;CN="Curling %C5%81%C3%B3d%C5%BA":MAILTO:kontakt@curlinglodz.pl
END:VEVENT
BEGIN:VEVENT
DTSTART;VALUE=DATE:20231215
DTEND;VALUE=DATE:20231218
DTSTAMP:20260422T035053
CREATED:20231126T141523Z
LAST-MODIFIED:20231126T141523Z
UID:3242-1702598400-1702857599@pfkc.pl
SUMMARY:WCT Łódź Men's International 2023
DESCRIPTION:
URL:https://pfkc.pl/turnieje/wct-lodz-mens-international-2023/
LOCATION:Curling Łódź\, Śnieżna 10\, Łódź\, 92-103\, Poland
CATEGORIES:World Curling Tour
ORGANIZER;CN="Curling %C5%81%C3%B3d%C5%BA":MAILTO:kontakt@curlinglodz.pl
END:VEVENT
BEGIN:VEVENT
DTSTART;VALUE=DATE:20231215
DTEND;VALUE=DATE:20231218
DTSTAMP:20260422T035053
CREATED:20231106T161316Z
LAST-MODIFIED:20231106T161316Z
UID:3170-1702598400-1702857599@pfkc.pl
SUMMARY:Turniej Ośmiu Miast
DESCRIPTION:Curlerki i curlerzy\, zapraszamy po raz drugi na „Turniej 8 Miast”! \nWydarzenie wyjątkowe w swej formie! Turniej łączący spotkanie sportowe z integracją drużyn w barwach ośmiu miast i ośrodków całej Polski. \nLiczba curlerek i curlerów reprezentujących poszczególne miasta jest nielimitowana. Przybywajcie i wspólnie walczcie i grajcie! Każdy zespół rozegra pięć 6-endowych spotkań\, a najlepsza czwórka (czyli połowa miast:-) awansuje do rundy finałowej z 8-endowym meczem. \nZasady:\n–> po 8 kolejek w piątek i sobotę oraz 4 kolejki w niedzielę (5 rund)\n–> mecz o 3. i o 1. miejsce dla najlepszych\n–> gwarantowane 5 spotkań\n–> mierzenie czasu „thinking-time”\n–> system szwajcarski + mecze o lokaty 1-2 i 3-4 \nUWAGA:\nZakwalifikowane drużyny prosimy o wpłacanie wpisowego na konto KKC: 11 1750 0012 0000 0000 2710 9853\, podając w tytule przelewu „2TOM – własne_miasto”. \nSerdecznie zapraszamy!\nKrakowski Klub Curlingowy oraz Curling w Krakowie \n—————- \nDear Curlers\, welcome to the „Eight Cities Tournament” for the second time! \nAn event unique in its form! A tournament combining a sports meeting with the integration of teams in the colours of eight cities. \nThe number of curlers per team representing your city is unlimited. Sign up and come with your friends to play together! No matter if you are 3\, 4\, 6 or 9 persons. It is up to you to decide. \nEach team will play five 6-end matches and the best four cities (that is half of the tournament:-) will advance to the final round with an 8-end match. \nRules:\n–> 2 games on Friday and Saturday and 1 game on Sunday (total 5 rounds)\n–> match for 3rd and 1st place for the best\n–> guaranteed 5 matches\n–> „thinking-time”\n–> Swiss system + matches for places 1-2 and 3-4 \nCome to Krakow\, you are warmly welcome! If you have any questions\, please do not hesitate to contact: zawody[at]kkc-curling.pl\nKrakow Curling Club
URL:https://pfkc.pl/turnieje/turniej-osmiu-miast/
LOCATION:Curling w Krakowie\, ul. Lema 7 (Tauron Arena)\, Kraków\, Poland
CATEGORIES:turniej towarzyski
END:VEVENT
BEGIN:VEVENT
DTSTART;VALUE=DATE:20231210
DTEND;VALUE=DATE:20231211
DTSTAMP:20260422T035053
CREATED:20230615T211601Z
LAST-MODIFIED:20230615T211601Z
UID:2787-1702166400-1702252799@pfkc.pl
SUMMARY:Czwórkowa Sparingniedziela
DESCRIPTION:
URL:https://pfkc.pl/turnieje/czworkowa-sparingniedziela/
LOCATION:Curling Łódź\, Śnieżna 10\, Łódź\, 92-103\, Poland
ORGANIZER;CN="Curling %C5%81%C3%B3d%C5%BA":MAILTO:kontakt@curlinglodz.pl
END:VEVENT
BEGIN:VEVENT
DTSTART;VALUE=DATE:20231209
DTEND;VALUE=DATE:20231210
DTSTAMP:20260422T035053
CREATED:20230615T211524Z
LAST-MODIFIED:20230615T211524Z
UID:2785-1702080000-1702166399@pfkc.pl
SUMMARY:Dwójkowa Sparingsobota
DESCRIPTION:
URL:https://pfkc.pl/turnieje/dwojkowa-sparingsobota-2/
LOCATION:Curling Łódź\, Śnieżna 10\, Łódź\, 92-103\, Poland
ORGANIZER;CN="Curling %C5%81%C3%B3d%C5%BA":MAILTO:kontakt@curlinglodz.pl
END:VEVENT
BEGIN:VEVENT
DTSTART;VALUE=DATE:20231201
DTEND;VALUE=DATE:20231204
DTSTAMP:20260422T035053
CREATED:20230615T204204Z
LAST-MODIFIED:20230615T204204Z
UID:2733-1701388800-1701647999@pfkc.pl
SUMMARY:Mistrzostwa Polski w Curlingu na Wózkach Par Mieszanych
DESCRIPTION:
URL:https://pfkc.pl/turnieje/mistrzostwa-polski-w-curlingu-na-wozkach-par-mieszanych/
LOCATION:Curling Łódź\, Śnieżna 10\, Łódź\, 92-103\, Poland
CATEGORIES:Mistrzostwa Polski
ATTACH;FMTTYPE=image/jpeg:https://pfkc.pl/wp-content/uploads/2023/03/pfkc_logo_solo.jpg
END:VEVENT
BEGIN:VEVENT
DTSTART;VALUE=DATE:20231201
DTEND;VALUE=DATE:20231204
DTSTAMP:20260422T035053
CREATED:20230615T204121Z
LAST-MODIFIED:20230615T204121Z
UID:2731-1701388800-1701647999@pfkc.pl
SUMMARY:Mistrzostwa Polski Seniorów
DESCRIPTION:
URL:https://pfkc.pl/turnieje/mistrzostwa-polski-seniorow/
LOCATION:Curling Łódź\, Śnieżna 10\, Łódź\, 92-103\, Poland
CATEGORIES:Mistrzostwa Polski
ATTACH;FMTTYPE=image/jpeg:https://pfkc.pl/wp-content/uploads/2023/03/pfkc_logo_solo.jpg
END:VEVENT
BEGIN:VEVENT
DTSTART;VALUE=DATE:20231117
DTEND;VALUE=DATE:20231120
DTSTAMP:20260422T035053
CREATED:20230615T205019Z
LAST-MODIFIED:20230615T205019Z
UID:2748-1700179200-1700438399@pfkc.pl
SUMMARY:Ekstraliga Mężczyzn
DESCRIPTION:
URL:https://pfkc.pl/turnieje/ekstraliga-mezczyzn/
LOCATION:Curling Łódź\, Śnieżna 10\, Łódź\, 92-103\, Poland
CATEGORIES:liga
ATTACH;FMTTYPE=image/jpeg:https://pfkc.pl/wp-content/uploads/2023/03/plc_logo.jpg
END:VEVENT
BEGIN:VEVENT
DTSTART;VALUE=DATE:20231109
DTEND;VALUE=DATE:20231113
DTSTAMP:20260422T035053
CREATED:20230615T211456Z
LAST-MODIFIED:20230615T212046Z
UID:2782-1699488000-1699833599@pfkc.pl
SUMMARY:WCT Mixed Doubles Łódź 2023
DESCRIPTION:
URL:https://pfkc.pl/turnieje/wct-mixed-doubles-lodz-2023/
LOCATION:Curling Łódź\, Śnieżna 10\, Łódź\, 92-103\, Poland
ATTACH;FMTTYPE=image/png:https://pfkc.pl/wp-content/uploads/2023/06/MD2023-01.png
ORGANIZER;CN="Curling %C5%81%C3%B3d%C5%BA":MAILTO:kontakt@curlinglodz.pl
END:VEVENT
BEGIN:VEVENT
DTSTART;VALUE=DATE:20231104
DTEND;VALUE=DATE:20231106
DTSTAMP:20260422T035053
CREATED:20230615T205809Z
LAST-MODIFIED:20230615T205809Z
UID:2766-1699056000-1699228799@pfkc.pl
SUMMARY:3. PLC Mężczyzn
DESCRIPTION:
URL:https://pfkc.pl/turnieje/3-plc-mezczyzn/
LOCATION:Curling Łódź\, Śnieżna 10\, Łódź\, 92-103\, Poland
CATEGORIES:liga
ATTACH;FMTTYPE=image/jpeg:https://pfkc.pl/wp-content/uploads/2023/03/plc_logo.jpg
ORGANIZER;CN="Curling %C5%81%C3%B3d%C5%BA":MAILTO:kontakt@curlinglodz.pl
END:VEVENT
BEGIN:VEVENT
DTSTART;VALUE=DATE:20231104
DTEND;VALUE=DATE:20231106
DTSTAMP:20260422T035053
CREATED:20230615T205740Z
LAST-MODIFIED:20230615T215701Z
UID:2764-1699056000-1699228799@pfkc.pl
SUMMARY:2. PLC Mężczyzn
DESCRIPTION:
URL:https://pfkc.pl/turnieje/plc-mezczyzn-3/
LOCATION:Curling Łódź\, Śnieżna 10\, Łódź\, 92-103\, Poland
CATEGORIES:liga
ATTACH;FMTTYPE=image/jpeg:https://pfkc.pl/wp-content/uploads/2023/03/plc_logo.jpg
ORGANIZER;CN="Curling %C5%81%C3%B3d%C5%BA":MAILTO:kontakt@curlinglodz.pl
END:VEVENT
BEGIN:VEVENT
DTSTART;VALUE=DATE:20231027
DTEND;VALUE=DATE:20231030
DTSTAMP:20260422T035053
CREATED:20230615T203613Z
LAST-MODIFIED:20230615T203758Z
UID:2725-1698364800-1698623999@pfkc.pl
SUMMARY:Mistrzostwa Polski Par Mieszanych (finały)
DESCRIPTION:
URL:https://pfkc.pl/turnieje/mistrzostwa-polski-par-mieszanych-finaly/
LOCATION:Curling Łódź\, Śnieżna 10\, Łódź\, 92-103\, Poland
CATEGORIES:Mistrzostwa Polski
ATTACH;FMTTYPE=image/jpeg:https://pfkc.pl/wp-content/uploads/2023/03/pfkc_logo_solo.jpg
END:VEVENT
BEGIN:VEVENT
DTSTART;VALUE=DATE:20231021
DTEND;VALUE=DATE:20231023
DTSTAMP:20260422T035053
CREATED:20230615T205428Z
LAST-MODIFIED:20230615T215651Z
UID:2756-1697846400-1698019199@pfkc.pl
SUMMARY:1. PLC Mężczyzn
DESCRIPTION:
URL:https://pfkc.pl/turnieje/plc-mezczyzn/
LOCATION:Curling Łódź\, Śnieżna 10\, Łódź\, 92-103\, Poland
CATEGORIES:liga
ATTACH;FMTTYPE=image/jpeg:https://pfkc.pl/wp-content/uploads/2023/03/plc_logo.jpg
ORGANIZER;CN="Curling %C5%81%C3%B3d%C5%BA":MAILTO:kontakt@curlinglodz.pl
END:VEVENT
BEGIN:VEVENT
DTSTART;VALUE=DATE:20231014
DTEND;VALUE=DATE:20231022
DTSTAMP:20260422T035053
CREATED:20230615T212511Z
LAST-MODIFIED:20230615T212511Z
UID:2800-1697241600-1697932799@pfkc.pl
SUMMARY:World Mixed Curling Championship 2023
DESCRIPTION:Aberdeen\, Szkocja
URL:https://pfkc.pl/turnieje/world-mixed-curling-championship-2023/
CATEGORIES:turniej WCF
ATTACH;FMTTYPE=image/png:https://pfkc.pl/wp-content/uploads/2023/03/FI-WCF.png
END:VEVENT
BEGIN:VEVENT
DTSTART;VALUE=DATE:20231013
DTEND;VALUE=DATE:20231016
DTSTAMP:20260422T035053
CREATED:20230615T203742Z
LAST-MODIFIED:20230615T203742Z
UID:2727-1697155200-1697414399@pfkc.pl
SUMMARY:Mistrzostwa Polski Juniorów
DESCRIPTION:
URL:https://pfkc.pl/turnieje/mistrzostwa-polski-juniorow/
LOCATION:Curling Łódź\, Śnieżna 10\, Łódź\, 92-103\, Poland
CATEGORIES:Mistrzostwa Polski
ATTACH;FMTTYPE=image/jpeg:https://pfkc.pl/wp-content/uploads/2023/03/pfkc_logo_solo.jpg
END:VEVENT
BEGIN:VEVENT
DTSTART;VALUE=DATE:20231006
DTEND;VALUE=DATE:20231009
DTSTAMP:20260422T035053
CREATED:20230615T205130Z
LAST-MODIFIED:20230615T205130Z
UID:2752-1696550400-1696809599@pfkc.pl
SUMMARY:Ekstraliga Kobiet
DESCRIPTION:
URL:https://pfkc.pl/turnieje/ekstraliga-kobiet/
LOCATION:Curling Łódź\, Śnieżna 10\, Łódź\, 92-103\, Poland
CATEGORIES:liga
ATTACH;FMTTYPE=image/jpeg:https://pfkc.pl/wp-content/uploads/2023/03/plc_logo.jpg
END:VEVENT
BEGIN:VEVENT
DTSTART;VALUE=DATE:20230929
DTEND;VALUE=DATE:20231002
DTSTAMP:20260422T035053
CREATED:20230615T203445Z
LAST-MODIFIED:20230615T203637Z
UID:2723-1695945600-1696204799@pfkc.pl
SUMMARY:Mistrzostwa Polski Par Mieszanych (eliminacje)
DESCRIPTION:
URL:https://pfkc.pl/turnieje/mistrzostwa-polski-par-mieszanych-eliminacje/
LOCATION:Curling Łódź\, Śnieżna 10\, Łódź\, 92-103\, Poland
CATEGORIES:Mistrzostwa Polski
ATTACH;FMTTYPE=image/jpeg:https://pfkc.pl/wp-content/uploads/2023/03/pfkc_logo_solo.jpg
END:VEVENT
BEGIN:VEVENT
DTSTART;VALUE=DATE:20230915
DTEND;VALUE=DATE:20230918
DTSTAMP:20260422T035053
CREATED:20230615T211258Z
LAST-MODIFIED:20230615T211258Z
UID:2780-1694736000-1694995199@pfkc.pl
SUMMARY:Galante Bajbory 2023
DESCRIPTION:
URL:https://pfkc.pl/turnieje/galante-bajbory-2023/
LOCATION:Curling Łódź\, Śnieżna 10\, Łódź\, 92-103\, Poland
CATEGORIES:turniej towarzyski
ORGANIZER;CN="Curling %C5%81%C3%B3d%C5%BA":MAILTO:kontakt@curlinglodz.pl
END:VEVENT
BEGIN:VEVENT
DTSTART;VALUE=DATE:20230909
DTEND;VALUE=DATE:20230910
DTSTAMP:20260422T035053
CREATED:20230615T211213Z
LAST-MODIFIED:20230615T211213Z
UID:2778-1694217600-1694303999@pfkc.pl
SUMMARY:Dwójkowa Sparingsobota
DESCRIPTION:
URL:https://pfkc.pl/turnieje/dwojkowa-sparingsobota/
LOCATION:Curling Łódź\, Śnieżna 10\, Łódź\, 92-103\, Poland
ORGANIZER;CN="Curling %C5%81%C3%B3d%C5%BA":MAILTO:kontakt@curlinglodz.pl
END:VEVENT
BEGIN:VEVENT
DTSTART;VALUE=DATE:20230826
DTEND;VALUE=DATE:20230906
DTSTAMP:20260422T035053
CREATED:20230330T195623Z
LAST-MODIFIED:20230331T113259Z
UID:2234-1693008000-1693958399@pfkc.pl
SUMMARY:12th Mazury Curling Festiwal
DESCRIPTION:
URL:https://pfkc.pl/turnieje/12th-mazury-curling-festiwal/
LOCATION:Mazurskie Centrum Sportów Lodowych w Giżycku\, ul. Królowej Jadwigi 7D\, Giżycko\, Poland
CATEGORIES:camp,turniej towarzyski
ATTACH;FMTTYPE=image/png:https://pfkc.pl/wp-content/uploads/2023/03/AddText_02-02-11.50.08.png
END:VEVENT
BEGIN:VEVENT
DTSTART;VALUE=DATE:20230428
DTEND;VALUE=DATE:20230507
DTSTAMP:20260422T035053
CREATED:20230330T201302Z
LAST-MODIFIED:20230331T121148Z
UID:2242-1682640000-1683417599@pfkc.pl
SUMMARY:European Curling Championships 2023 C-Division
DESCRIPTION:Mistrzostwach Europy Dywizji C\nDumfries\, Szkocja
URL:https://pfkc.pl/turnieje/european-curling-championships-2023-c-division/
CATEGORIES:turniej WCF
ATTACH;FMTTYPE=image/png:https://pfkc.pl/wp-content/uploads/2023/03/FI-WCF.png
END:VEVENT
BEGIN:VEVENT
DTSTART;VALUE=DATE:20230421
DTEND;VALUE=DATE:20230430
DTSTAMP:20260422T035053
CREATED:20230330T201022Z
LAST-MODIFIED:20230330T201759Z
UID:2239-1682035200-1682812799@pfkc.pl
SUMMARY:World Senior Curling Championships 2023
DESCRIPTION:Mistrzostwach Świata Seniorów 50+\nGangneung\, Korea
URL:https://pfkc.pl/turnieje/world-senior-curling-championships-2023/
CATEGORIES:turniej WCF
ATTACH;FMTTYPE=image/png:https://pfkc.pl/wp-content/uploads/2023/03/2023-WSCC.png
END:VEVENT
BEGIN:VEVENT
DTSTART;VALUE=DATE:20230421
DTEND;VALUE=DATE:20230424
DTSTAMP:20260422T035053
CREATED:20230329T200710Z
LAST-MODIFIED:20230331T113020Z
UID:2185-1682035200-1682294399@pfkc.pl
SUMMARY:Turniej o Puchar PFKC Mixtów 2023
DESCRIPTION:
URL:https://pfkc.pl/turnieje/turniej-o-puchar-pfkc-mixtow-2023/
LOCATION:Curling Łódź\, Śnieżna 10\, Łódź\, 92-103\, Poland
CATEGORIES:turniej kwalifikacyjny
ATTACH;FMTTYPE=image/jpeg:https://pfkc.pl/wp-content/uploads/2023/03/pfkc_logo_solo.jpg
END:VEVENT
BEGIN:VEVENT
DTSTART;VALUE=DATE:20230421
DTEND;VALUE=DATE:20230424
DTSTAMP:20260422T035053
CREATED:20230329T200015Z
LAST-MODIFIED:20230331T113326Z
UID:2177-1682035200-1682294399@pfkc.pl
SUMMARY:IX Turniej o Czarny Kamień 2023
DESCRIPTION:
URL:https://pfkc.pl/turnieje/ix-turniej-o-czarny-kamien-2023/
LOCATION:Lodowisko Jantor\, ul. Nałkowskiej 11\, Katowice\, Poland
CATEGORIES:turniej towarzyski
ATTACH;FMTTYPE=image/jpeg:https://pfkc.pl/wp-content/uploads/2023/03/poster_139-5836.jpg
END:VEVENT
BEGIN:VEVENT
DTSTART;VALUE=DATE:20230415
DTEND;VALUE=DATE:20230417
DTSTAMP:20260422T035053
CREATED:20230329T200443Z
LAST-MODIFIED:20230331T113353Z
UID:2181-1681516800-1681689599@pfkc.pl
SUMMARY:Polska Liga Curlingu 2023 - Pary mieszane
DESCRIPTION:Drugi weekend rozgrywek Par Mieszanych Polskiej Ligi Curlingu.
URL:https://pfkc.pl/turnieje/plc-pary-2023/
LOCATION:Curling Łódź\, Śnieżna 10\, Łódź\, 92-103\, Poland
CATEGORIES:liga
ATTACH;FMTTYPE=image/jpeg:https://pfkc.pl/wp-content/uploads/2023/03/plc_logo.jpg
END:VEVENT
END:VCALENDAR