BEGIN:VCALENDAR
VERSION:2.0
PRODID:-//PFKC - ECPv6.15.20//NONSGML v1.0//EN
CALSCALE:GREGORIAN
METHOD:PUBLISH
X-ORIGINAL-URL:https://pfkc.pl
X-WR-CALDESC:Wydarzenia dla PFKC
REFRESH-INTERVAL;VALUE=DURATION:PT1H
X-Robots-Tag:noindex
X-PUBLISHED-TTL:PT1H
BEGIN:VTIMEZONE
TZID:Europe/Warsaw
BEGIN:DAYLIGHT
TZOFFSETFROM:+0100
TZOFFSETTO:+0200
TZNAME:CEST
DTSTART:20250330T010000
END:DAYLIGHT
BEGIN:STANDARD
TZOFFSETFROM:+0200
TZOFFSETTO:+0100
TZNAME:CET
DTSTART:20251026T010000
END:STANDARD
BEGIN:DAYLIGHT
TZOFFSETFROM:+0100
TZOFFSETTO:+0200
TZNAME:CEST
DTSTART:20260329T010000
END:DAYLIGHT
BEGIN:STANDARD
TZOFFSETFROM:+0200
TZOFFSETTO:+0100
TZNAME:CET
DTSTART:20261025T010000
END:STANDARD
BEGIN:DAYLIGHT
TZOFFSETFROM:+0100
TZOFFSETTO:+0200
TZNAME:CEST
DTSTART:20270328T010000
END:DAYLIGHT
BEGIN:STANDARD
TZOFFSETFROM:+0200
TZOFFSETTO:+0100
TZNAME:CET
DTSTART:20271031T010000
END:STANDARD
END:VTIMEZONE
BEGIN:VEVENT
DTSTART;VALUE=DATE:20260205
DTEND;VALUE=DATE:20260209
DTSTAMP:20260421T174508
CREATED:20250521T184857Z
LAST-MODIFIED:20250521T184857Z
UID:4389-1770249600-1770595199@pfkc.pl
SUMMARY:Mistrzostwa Polski Mężczyzn i Kobiet (eliminacje)
DESCRIPTION:
URL:https://pfkc.pl/turnieje/mistrzostwa-polski-mezczyzn-i-kobiet-eliminacje-2026/
LOCATION:Curling Łódź\, Śnieżna 10\, Łódź\, 92-103\, Poland
CATEGORIES:Mistrzostwa Polski
ATTACH;FMTTYPE=image/jpeg:https://pfkc.pl/wp-content/uploads/2023/03/pfkc_logo_solo.jpg
END:VEVENT
BEGIN:VEVENT
DTSTART;VALUE=DATE:20260220
DTEND;VALUE=DATE:20260223
DTSTAMP:20260421T174508
CREATED:20250521T185925Z
LAST-MODIFIED:20250521T185925Z
UID:4387-1771545600-1771804799@pfkc.pl
SUMMARY:3. PLC Mężczyzn
DESCRIPTION:
URL:https://pfkc.pl/turnieje/3-plc-mezczyzn-5/
LOCATION:Curling Łódź\, Śnieżna 10\, Łódź\, 92-103\, Poland
CATEGORIES:liga
ATTACH;FMTTYPE=image/jpeg:https://pfkc.pl/wp-content/uploads/2023/03/plc_logo.jpg
END:VEVENT
BEGIN:VEVENT
DTSTART;VALUE=DATE:20260220
DTEND;VALUE=DATE:20260223
DTSTAMP:20260421T174508
CREATED:20250521T185941Z
LAST-MODIFIED:20250521T185941Z
UID:4392-1771545600-1771804799@pfkc.pl
SUMMARY:1. PLC Kobiet
DESCRIPTION:
URL:https://pfkc.pl/turnieje/1-plc-kobiet-5/
LOCATION:Curling Łódź\, Śnieżna 10\, Łódź\, 92-103\, Poland
CATEGORIES:liga
ATTACH;FMTTYPE=image/jpeg:https://pfkc.pl/wp-content/uploads/2023/03/plc_logo.jpg
END:VEVENT
BEGIN:VEVENT
DTSTART;VALUE=DATE:20260227
DTEND;VALUE=DATE:20260302
DTSTAMP:20260421T174508
CREATED:20250521T184945Z
LAST-MODIFIED:20250521T184945Z
UID:4398-1772150400-1772409599@pfkc.pl
SUMMARY:Mistrzostwa Polski w Curlingu na Wózkach Par Mieszanych
DESCRIPTION:
URL:https://pfkc.pl/turnieje/mistrzostwa-polski-w-curlingu-na-wozkach-par-mieszanych-2026/
LOCATION:Curling Łódź\, Śnieżna 10\, Łódź\, 92-103\, Poland
CATEGORIES:Mistrzostwa Polski
ATTACH;FMTTYPE=image/jpeg:https://pfkc.pl/wp-content/uploads/2023/03/pfkc_logo_solo.jpg
END:VEVENT
BEGIN:VEVENT
DTSTART;VALUE=DATE:20260304
DTEND;VALUE=DATE:20260309
DTSTAMP:20260421T174508
CREATED:20250521T185026Z
LAST-MODIFIED:20250521T185026Z
UID:4386-1772582400-1773014399@pfkc.pl
SUMMARY:Mistrzostwa Polski Mężczyzn i Kobiet (finały)
DESCRIPTION:
URL:https://pfkc.pl/turnieje/mistrzostwa-polski-mezczyzn-i-kobiet-finaly-2026/
LOCATION:Curling Łódź\, Śnieżna 10\, Łódź\, 92-103\, Poland
CATEGORIES:Mistrzostwa Polski
ATTACH;FMTTYPE=image/jpeg:https://pfkc.pl/wp-content/uploads/2023/03/pfkc_logo_solo.jpg
END:VEVENT
BEGIN:VEVENT
DTSTART;VALUE=DATE:20260313
DTEND;VALUE=DATE:20260316
DTSTAMP:20260421T174508
CREATED:20250521T190023Z
LAST-MODIFIED:20250521T190023Z
UID:4426-1773360000-1773619199@pfkc.pl
SUMMARY:2. PLC Mężczyzn
DESCRIPTION:
URL:https://pfkc.pl/turnieje/2-plc-mezczyzn-4/
LOCATION:Curling Łódź\, Śnieżna 10\, Łódź\, 92-103\, Poland
CATEGORIES:liga
ATTACH;FMTTYPE=image/jpeg:https://pfkc.pl/wp-content/uploads/2023/03/plc_logo.jpg
END:VEVENT
BEGIN:VEVENT
DTSTART;VALUE=DATE:20260313
DTEND;VALUE=DATE:20260316
DTSTAMP:20260421T174508
CREATED:20250521T190039Z
LAST-MODIFIED:20250521T190039Z
UID:4425-1773360000-1773619199@pfkc.pl
SUMMARY:1. PLC Mężczyzn
DESCRIPTION:
URL:https://pfkc.pl/turnieje/1-plc-mezczyzn-3/
LOCATION:Curling Łódź\, Śnieżna 10\, Łódź\, 92-103\, Poland
CATEGORIES:liga
ATTACH;FMTTYPE=image/jpeg:https://pfkc.pl/wp-content/uploads/2023/03/plc_logo.jpg
END:VEVENT
BEGIN:VEVENT
DTSTART;VALUE=DATE:20260320
DTEND;VALUE=DATE:20260323
DTSTAMP:20260421T174508
CREATED:20250521T185141Z
LAST-MODIFIED:20250521T185141Z
UID:4385-1773964800-1774223999@pfkc.pl
SUMMARY:Mistrzostwa Polski Juniorów
DESCRIPTION:
URL:https://pfkc.pl/turnieje/mistrzostwa-polski-juniorow-2026/
LOCATION:Curling Łódź\, Śnieżna 10\, Łódź\, 92-103\, Poland
CATEGORIES:Mistrzostwa Polski
ATTACH;FMTTYPE=image/jpeg:https://pfkc.pl/wp-content/uploads/2023/03/pfkc_logo_solo.jpg
END:VEVENT
BEGIN:VEVENT
DTSTART;VALUE=DATE:20260328
DTEND;VALUE=DATE:20260330
DTSTAMP:20260421T174508
CREATED:20250521T190114Z
LAST-MODIFIED:20250521T190114Z
UID:4384-1774656000-1774828799@pfkc.pl
SUMMARY:Baraże
DESCRIPTION:
URL:https://pfkc.pl/turnieje/baraze-3/
LOCATION:Curling Łódź\, Śnieżna 10\, Łódź\, 92-103\, Poland
CATEGORIES:liga
ATTACH;FMTTYPE=image/jpeg:https://pfkc.pl/wp-content/uploads/2023/03/plc_logo.jpg
END:VEVENT
BEGIN:VEVENT
DTSTART;VALUE=DATE:20260409
DTEND;VALUE=DATE:20260413
DTSTAMP:20260421T174508
CREATED:20250521T185217Z
LAST-MODIFIED:20250521T185217Z
UID:4383-1775692800-1776038399@pfkc.pl
SUMMARY:Mistrzostwa Polski Mikstów
DESCRIPTION:
URL:https://pfkc.pl/turnieje/mistrzostwa-polski-mikstow-2026/
LOCATION:Curling Łódź\, Śnieżna 10\, Łódź\, 92-103\, Poland
CATEGORIES:Mistrzostwa Polski
ATTACH;FMTTYPE=image/jpeg:https://pfkc.pl/wp-content/uploads/2023/03/pfkc_logo_solo.jpg
END:VEVENT
BEGIN:VEVENT
DTSTART;VALUE=DATE:20260417
DTEND;VALUE=DATE:20260420
DTSTAMP:20260421T174508
CREATED:20250521T190217Z
LAST-MODIFIED:20250521T190740Z
UID:4418-1776384000-1776643199@pfkc.pl
SUMMARY:PLC Par Mieszanych
DESCRIPTION:
URL:https://pfkc.pl/turnieje/plc-pary-mieszane-2/
LOCATION:Curling Łódź\, Śnieżna 10\, Łódź\, 92-103\, Poland
CATEGORIES:liga
ATTACH;FMTTYPE=image/jpeg:https://pfkc.pl/wp-content/uploads/2023/03/plc_logo.jpg
END:VEVENT
END:VCALENDAR